BEGIN:VCALENDAR
VERSION:2.0
PRODID:-//Little Britain Presbyterian Church - ECPv6.15.20//NONSGML v1.0//EN
CALSCALE:GREGORIAN
METHOD:PUBLISH
X-ORIGINAL-URL:https://littlebritainchurch.org
X-WR-CALDESC:Events for Little Britain Presbyterian Church
REFRESH-INTERVAL;VALUE=DURATION:PT1H
X-Robots-Tag:noindex
X-PUBLISHED-TTL:PT1H
BEGIN:VTIMEZONE
TZID:UTC
BEGIN:STANDARD
TZOFFSETFROM:+0000
TZOFFSETTO:+0000
TZNAME:UTC
DTSTART:20230101T000000
END:STANDARD
END:VTIMEZONE
BEGIN:VEVENT
DTSTART;TZID=UTC:20240726T130000
DTEND;TZID=UTC:20240726T163000
DTSTAMP:20260422T095511
CREATED:20240621T033255Z
LAST-MODIFIED:20240621T033255Z
UID:10002951-1721998800-1722011400@littlebritainchurch.org
SUMMARY:Tubing at Sickman's Mill
DESCRIPTION:There will be tubing at Sickman’s Mill at 1:00 p.m. on Fri.\, July 26th.  Please let Becky Spangler know (717-286-4595) by July 24th if you are able to attend.
URL:https://littlebritainchurch.org/event/tubing-at-sickmans-mill/
LOCATION:Sickman’ Mill\, 671 Sand Hill Road\, Pequea\, 17565\, United States
ATTACH;FMTTYPE=image/jpeg:https://littlebritainchurch.org/wp-content/uploads/2024/06/Tubing.jpg
END:VEVENT
END:VCALENDAR