BEGIN:VCALENDAR
VERSION:2.0
PRODID:-//Little Britain Presbyterian Church - ECPv6.15.20//NONSGML v1.0//EN
CALSCALE:GREGORIAN
METHOD:PUBLISH
X-WR-CALNAME:Little Britain Presbyterian Church
X-ORIGINAL-URL:https://littlebritainchurch.org
X-WR-CALDESC:Events for Little Britain Presbyterian Church
REFRESH-INTERVAL;VALUE=DURATION:PT1H
X-Robots-Tag:noindex
X-PUBLISHED-TTL:PT1H
BEGIN:VTIMEZONE
TZID:UTC
BEGIN:STANDARD
TZOFFSETFROM:+0000
TZOFFSETTO:+0000
TZNAME:UTC
DTSTART:20230101T000000
END:STANDARD
END:VTIMEZONE
BEGIN:VEVENT
DTSTART;TZID=UTC:20250907T120000
DTEND;TZID=UTC:20260531T130000
DTSTAMP:20260424T104549
CREATED:20250830T235224Z
LAST-MODIFIED:20251012T233937Z
UID:10003367-1757246400-1780232400@littlebritainchurch.org
SUMMARY:Choir Rehearsals
DESCRIPTION:Choir rehearsals will begin on Sun.\, Sept. 7th following the worship service.  There will be no rehearsal on the 14th.  All are welcome to join us. \nShare this:\n				Share on Facebook (Opens in new window)\n				Facebook\n			\n				Share on X (Opens in new window)\n				X
URL:https://littlebritainchurch.org/event/choir-rehearsals-3-2/
LOCATION:Little Britain Presbyterian Church\, 255 Little Britain Church Road\, Peach Bottom\, PA\, 17563\, United States
ATTACH;FMTTYPE=image/jpeg:https://littlebritainchurch.org/wp-content/uploads/2025/02/hymn-book.jpg
END:VEVENT
BEGIN:VEVENT
DTSTART;TZID=UTC:20260414T190000
DTEND;TZID=UTC:20260414T210000
DTSTAMP:20260424T104549
CREATED:20190813T221412Z
LAST-MODIFIED:20260413T023218Z
UID:10000628-1776193200-1776200400@littlebritainchurch.org
SUMMARY:Session Meeting
DESCRIPTION:There will be a Session meeting on Tues.\, April 14th at 7:00 p.m.\, come at 6:30 p.m. for a time of prayer. \nShare this:\n				Share on Facebook (Opens in new window)\n				Facebook\n			\n				Share on X (Opens in new window)\n				X
URL:https://littlebritainchurch.org/event/session-meeting/
LOCATION:Little Britain Presbyterian Church\, 255 Little Britain Church Road\, Peach Bottom\, PA\, 17563\, United States
END:VEVENT
BEGIN:VEVENT
DTSTART;TZID=UTC:20260415T183000
DTEND;TZID=UTC:20260415T200000
DTSTAMP:20260424T104549
CREATED:20250928T221521Z
LAST-MODIFIED:20260109T135452Z
UID:10003739-1776277800-1776283200@littlebritainchurch.org
SUMMARY:Bell Choir
DESCRIPTION:The Bell Choir practice is on Wednesday evenings at 6:30 p.m.  Please come join this fun group. \nShare this:\n				Share on Facebook (Opens in new window)\n				Facebook\n			\n				Share on X (Opens in new window)\n				X
URL:https://littlebritainchurch.org/event/bell-choir-3-3-2-2/2026-04-15/
LOCATION:PA
ATTACH;FMTTYPE=image/jpeg:https://littlebritainchurch.org/wp-content/uploads/2022/09/handbell_choir_image.jpg
END:VEVENT
BEGIN:VEVENT
DTSTART;TZID=UTC:20260415T193000
DTEND;TZID=UTC:20260415T210000
DTSTAMP:20260424T104549
CREATED:20250831T212725Z
LAST-MODIFIED:20260109T135618Z
UID:10001220-1776281400-1776286800@littlebritainchurch.org
SUMMARY:Bible Study (ZOOM)
DESCRIPTION:A new Zoom Bible Study on 1 Corinthians begins Wed.\, Jan. 14th at 7:30 p.m.  We would love to have you join.  Let Pastor Tom know at lbpc1732@gmail.com and you will be sent the zoom link. \nShare this:\n				Share on Facebook (Opens in new window)\n				Facebook\n			\n				Share on X (Opens in new window)\n				X
URL:https://littlebritainchurch.org/event/bible-study-zoom-2/2026-04-15/
LOCATION:PA
ATTACH;FMTTYPE=image/png:https://littlebritainchurch.org/wp-content/uploads/2022/09/15109_3_5.png
END:VEVENT
BEGIN:VEVENT
DTSTART;TZID=UTC:20260417T130000
DTEND;TZID=UTC:20260417T140000
DTSTAMP:20260424T104549
CREATED:20220922T200245Z
LAST-MODIFIED:20260423T162338Z
UID:10005181-1776430800-1776434400@littlebritainchurch.org
SUMMARY:Friday Prayer Group
DESCRIPTION:Join our Time of Prayer through Zoom on Fridays in the new year.  We have a new time\, 1:00 p.m.  It is great to pause in the middle of the day and gather together in prayer.  Let Pastor Tom know if you would like to be sent the zoom link to join us. \nShare this:\n				Share on Facebook (Opens in new window)\n				Facebook\n			\n				Share on X (Opens in new window)\n				X
URL:https://littlebritainchurch.org/event/friday-prayer-group/2026-04-17/
LOCATION:PA
ATTACH;FMTTYPE=image/jpeg:https://littlebritainchurch.org/wp-content/uploads/2022/03/prayer.jpg
END:VEVENT
BEGIN:VEVENT
DTSTART;TZID=UTC:20260419T090000
DTEND;TZID=UTC:20260419T091500
DTSTAMP:20260424T104549
CREATED:20220922T195957Z
LAST-MODIFIED:20220922T195957Z
UID:10001744-1776589200-1776590100@littlebritainchurch.org
SUMMARY:Sunday Prayer Session
DESCRIPTION:Let’s join together in prayer: Sunday Morning from 9:00-9:15 in the conference room. \nShare this:\n				Share on Facebook (Opens in new window)\n				Facebook\n			\n				Share on X (Opens in new window)\n				X
URL:https://littlebritainchurch.org/event/sunday-prayer-session/2026-04-19/
LOCATION:Little Britain Presbyterian Church\, 255 Little Britain Church Road\, Peach Bottom\, PA\, 17563\, United States
ATTACH;FMTTYPE=image/jpeg:https://littlebritainchurch.org/wp-content/uploads/2022/03/prayer.jpg
END:VEVENT
BEGIN:VEVENT
DTSTART;TZID=UTC:20260419T103000
DTEND;TZID=UTC:20260419T234500
DTSTAMP:20260424T104549
CREATED:20221024T055438Z
LAST-MODIFIED:20221222T010804Z
UID:10002266-1776594600-1776642300@littlebritainchurch.org
SUMMARY:Sunday Worship Service
DESCRIPTION:Each Sunday morning\, we gather for worship to be refreshed by and through the word of God. Please join us for worship at 10:30 AM in our Sanctuary or watch on Facebook Live. \nShare this:\n				Share on Facebook (Opens in new window)\n				Facebook\n			\n				Share on X (Opens in new window)\n				X
URL:https://littlebritainchurch.org/event/sunday-worship-service-2/2026-04-19/
LOCATION:Little Britain Presbyterian Church\, 255 Little Britain Church Road\, Peach Bottom\, PA\, 17563\, United States
ATTACH;FMTTYPE=image/jpeg:https://littlebritainchurch.org/wp-content/uploads/2022/03/worship.jpg
END:VEVENT
BEGIN:VEVENT
DTSTART;TZID=UTC:20260420T130000
DTEND;TZID=UTC:20260420T140000
DTSTAMP:20260424T104549
CREATED:20190814T051756Z
LAST-MODIFIED:20260413T022235Z
UID:10000635-1776690000-1776693600@littlebritainchurch.org
SUMMARY:PW Planning Meeting
DESCRIPTION:There will be a PW Planning Meeting on Mon.\, April 20th at 1:00 p.m. at the church.  All women are welcome! \nShare this:\n				Share on Facebook (Opens in new window)\n				Facebook\n			\n				Share on X (Opens in new window)\n				X
URL:https://littlebritainchurch.org/event/pw-planning-meeting/
LOCATION:Little Britain Presbyterian Church\, 255 Little Britain Church Road\, Peach Bottom\, PA\, 17563\, United States
END:VEVENT
BEGIN:VEVENT
DTSTART;TZID=UTC:20260422T183000
DTEND;TZID=UTC:20260422T200000
DTSTAMP:20260424T104549
CREATED:20250928T221521Z
LAST-MODIFIED:20260109T135452Z
UID:10003740-1776882600-1776888000@littlebritainchurch.org
SUMMARY:Bell Choir
DESCRIPTION:The Bell Choir practice is on Wednesday evenings at 6:30 p.m.  Please come join this fun group. \nShare this:\n				Share on Facebook (Opens in new window)\n				Facebook\n			\n				Share on X (Opens in new window)\n				X
URL:https://littlebritainchurch.org/event/bell-choir-3-3-2-2/2026-04-22/
LOCATION:PA
ATTACH;FMTTYPE=image/jpeg:https://littlebritainchurch.org/wp-content/uploads/2022/09/handbell_choir_image.jpg
END:VEVENT
BEGIN:VEVENT
DTSTART;TZID=UTC:20260422T193000
DTEND;TZID=UTC:20260422T210000
DTSTAMP:20260424T104549
CREATED:20250831T212725Z
LAST-MODIFIED:20260109T135618Z
UID:10001221-1776886200-1776891600@littlebritainchurch.org
SUMMARY:Bible Study (ZOOM)
DESCRIPTION:A new Zoom Bible Study on 1 Corinthians begins Wed.\, Jan. 14th at 7:30 p.m.  We would love to have you join.  Let Pastor Tom know at lbpc1732@gmail.com and you will be sent the zoom link. \nShare this:\n				Share on Facebook (Opens in new window)\n				Facebook\n			\n				Share on X (Opens in new window)\n				X
URL:https://littlebritainchurch.org/event/bible-study-zoom-2/2026-04-22/
LOCATION:PA
ATTACH;FMTTYPE=image/png:https://littlebritainchurch.org/wp-content/uploads/2022/09/15109_3_5.png
END:VEVENT
BEGIN:VEVENT
DTSTART;TZID=UTC:20260424T130000
DTEND;TZID=UTC:20260424T140000
DTSTAMP:20260424T104549
CREATED:20220922T200245Z
LAST-MODIFIED:20260423T162338Z
UID:10005182-1777035600-1777039200@littlebritainchurch.org
SUMMARY:Friday Prayer Group
DESCRIPTION:Join our Time of Prayer through Zoom on Fridays in the new year.  We have a new time\, 1:00 p.m.  It is great to pause in the middle of the day and gather together in prayer.  Let Pastor Tom know if you would like to be sent the zoom link to join us. \nShare this:\n				Share on Facebook (Opens in new window)\n				Facebook\n			\n				Share on X (Opens in new window)\n				X
URL:https://littlebritainchurch.org/event/friday-prayer-group/2026-04-24/
LOCATION:PA
ATTACH;FMTTYPE=image/jpeg:https://littlebritainchurch.org/wp-content/uploads/2022/03/prayer.jpg
END:VEVENT
BEGIN:VEVENT
DTSTART;TZID=UTC:20260227T173000
DTEND;TZID=UTC:20260227T183000
DTSTAMP:20260424T104549
CREATED:20190813T173613Z
LAST-MODIFIED:20260213T004142Z
UID:10000626-1772213400-1772217000@littlebritainchurch.org
SUMMARY:Free Community Meal
DESCRIPTION:Our next Community Free Meal will be held on Fri.\, Feb. 27th from 5:30-6:30 p.m.  Come on out and enjoy a delicious meal while visiting with neighbors and friends. \nShare this:\n				Share on Facebook (Opens in new window)\n				Facebook\n			\n				Share on X (Opens in new window)\n				X
URL:https://littlebritainchurch.org/event/free-community-meal-picnic-at-the-pavilion/
LOCATION:Little Britain Presbyterian Church\, 255 Little Britain Church Road\, Peach Bottom\, PA\, 17563\, United States
ATTACH;FMTTYPE=image/png:https://littlebritainchurch.org/wp-content/uploads/2019/08/freemeal-1.png
END:VEVENT
BEGIN:VEVENT
DTSTART;TZID=UTC:20260426T090000
DTEND;TZID=UTC:20260426T091500
DTSTAMP:20260424T104549
CREATED:20220922T195957Z
LAST-MODIFIED:20220922T195957Z
UID:10001745-1777194000-1777194900@littlebritainchurch.org
SUMMARY:Sunday Prayer Session
DESCRIPTION:Let’s join together in prayer: Sunday Morning from 9:00-9:15 in the conference room. \nShare this:\n				Share on Facebook (Opens in new window)\n				Facebook\n			\n				Share on X (Opens in new window)\n				X
URL:https://littlebritainchurch.org/event/sunday-prayer-session/2026-04-26/
LOCATION:Little Britain Presbyterian Church\, 255 Little Britain Church Road\, Peach Bottom\, PA\, 17563\, United States
ATTACH;FMTTYPE=image/jpeg:https://littlebritainchurch.org/wp-content/uploads/2022/03/prayer.jpg
END:VEVENT
BEGIN:VEVENT
DTSTART;TZID=UTC:20260426T103000
DTEND;TZID=UTC:20260426T234500
DTSTAMP:20260424T104549
CREATED:20221024T055438Z
LAST-MODIFIED:20221222T010804Z
UID:10002267-1777199400-1777247100@littlebritainchurch.org
SUMMARY:Sunday Worship Service
DESCRIPTION:Each Sunday morning\, we gather for worship to be refreshed by and through the word of God. Please join us for worship at 10:30 AM in our Sanctuary or watch on Facebook Live. \nShare this:\n				Share on Facebook (Opens in new window)\n				Facebook\n			\n				Share on X (Opens in new window)\n				X
URL:https://littlebritainchurch.org/event/sunday-worship-service-2/2026-04-26/
LOCATION:Little Britain Presbyterian Church\, 255 Little Britain Church Road\, Peach Bottom\, PA\, 17563\, United States
ATTACH;FMTTYPE=image/jpeg:https://littlebritainchurch.org/wp-content/uploads/2022/03/worship.jpg
END:VEVENT
BEGIN:VEVENT
DTSTART;TZID=UTC:20260429T183000
DTEND;TZID=UTC:20260429T200000
DTSTAMP:20260424T104549
CREATED:20250928T221521Z
LAST-MODIFIED:20260109T135452Z
UID:10003741-1777487400-1777492800@littlebritainchurch.org
SUMMARY:Bell Choir
DESCRIPTION:The Bell Choir practice is on Wednesday evenings at 6:30 p.m.  Please come join this fun group. \nShare this:\n				Share on Facebook (Opens in new window)\n				Facebook\n			\n				Share on X (Opens in new window)\n				X
URL:https://littlebritainchurch.org/event/bell-choir-3-3-2-2/2026-04-29/
LOCATION:PA
ATTACH;FMTTYPE=image/jpeg:https://littlebritainchurch.org/wp-content/uploads/2022/09/handbell_choir_image.jpg
END:VEVENT
BEGIN:VEVENT
DTSTART;TZID=UTC:20260429T193000
DTEND;TZID=UTC:20260429T210000
DTSTAMP:20260424T104549
CREATED:20250831T212725Z
LAST-MODIFIED:20260109T135618Z
UID:10001222-1777491000-1777496400@littlebritainchurch.org
SUMMARY:Bible Study (ZOOM)
DESCRIPTION:A new Zoom Bible Study on 1 Corinthians begins Wed.\, Jan. 14th at 7:30 p.m.  We would love to have you join.  Let Pastor Tom know at lbpc1732@gmail.com and you will be sent the zoom link. \nShare this:\n				Share on Facebook (Opens in new window)\n				Facebook\n			\n				Share on X (Opens in new window)\n				X
URL:https://littlebritainchurch.org/event/bible-study-zoom-2/2026-04-29/
LOCATION:PA
ATTACH;FMTTYPE=image/png:https://littlebritainchurch.org/wp-content/uploads/2022/09/15109_3_5.png
END:VEVENT
BEGIN:VEVENT
DTSTART;TZID=UTC:20260501T130000
DTEND;TZID=UTC:20260501T140000
DTSTAMP:20260424T104549
CREATED:20220922T200245Z
LAST-MODIFIED:20260423T162338Z
UID:10005183-1777640400-1777644000@littlebritainchurch.org
SUMMARY:Friday Prayer Group
DESCRIPTION:Join our Time of Prayer through Zoom on Fridays in the new year.  We have a new time\, 1:00 p.m.  It is great to pause in the middle of the day and gather together in prayer.  Let Pastor Tom know if you would like to be sent the zoom link to join us. \nShare this:\n				Share on Facebook (Opens in new window)\n				Facebook\n			\n				Share on X (Opens in new window)\n				X
URL:https://littlebritainchurch.org/event/friday-prayer-group/2026-05-01/
LOCATION:PA
ATTACH;FMTTYPE=image/jpeg:https://littlebritainchurch.org/wp-content/uploads/2022/03/prayer.jpg
END:VEVENT
BEGIN:VEVENT
DTSTART;TZID=UTC:20260503T090000
DTEND;TZID=UTC:20260503T091500
DTSTAMP:20260424T104550
CREATED:20220922T195957Z
LAST-MODIFIED:20220922T195957Z
UID:10001746-1777798800-1777799700@littlebritainchurch.org
SUMMARY:Sunday Prayer Session
DESCRIPTION:Let’s join together in prayer: Sunday Morning from 9:00-9:15 in the conference room. \nShare this:\n				Share on Facebook (Opens in new window)\n				Facebook\n			\n				Share on X (Opens in new window)\n				X
URL:https://littlebritainchurch.org/event/sunday-prayer-session/2026-05-03/
LOCATION:Little Britain Presbyterian Church\, 255 Little Britain Church Road\, Peach Bottom\, PA\, 17563\, United States
ATTACH;FMTTYPE=image/jpeg:https://littlebritainchurch.org/wp-content/uploads/2022/03/prayer.jpg
END:VEVENT
BEGIN:VEVENT
DTSTART;TZID=UTC:20260503T103000
DTEND;TZID=UTC:20260503T114500
DTSTAMP:20260424T104550
CREATED:20240505T160846Z
LAST-MODIFIED:20240505T160914Z
UID:10002833-1777804200-1777808700@littlebritainchurch.org
SUMMARY:Communion
DESCRIPTION:This Sunday is Holy Communion\, please come with your hearts prepared. \nShare this:\n				Share on Facebook (Opens in new window)\n				Facebook\n			\n				Share on X (Opens in new window)\n				X
URL:https://littlebritainchurch.org/event/communion-2/2026-05-03/
LOCATION:Little Britain Presbyterian Church\, 255 Little Britain Church Road\, Peach Bottom\, PA\, 17563\, United States
ATTACH;FMTTYPE=image/jpeg:https://littlebritainchurch.org/wp-content/uploads/2019/08/communion.jpg
END:VEVENT
BEGIN:VEVENT
DTSTART;TZID=UTC:20260503T103000
DTEND;TZID=UTC:20260503T234500
DTSTAMP:20260424T104550
CREATED:20221024T055438Z
LAST-MODIFIED:20221222T010804Z
UID:10002268-1777804200-1777851900@littlebritainchurch.org
SUMMARY:Sunday Worship Service
DESCRIPTION:Each Sunday morning\, we gather for worship to be refreshed by and through the word of God. Please join us for worship at 10:30 AM in our Sanctuary or watch on Facebook Live. \nShare this:\n				Share on Facebook (Opens in new window)\n				Facebook\n			\n				Share on X (Opens in new window)\n				X
URL:https://littlebritainchurch.org/event/sunday-worship-service-2/2026-05-03/
LOCATION:Little Britain Presbyterian Church\, 255 Little Britain Church Road\, Peach Bottom\, PA\, 17563\, United States
ATTACH;FMTTYPE=image/jpeg:https://littlebritainchurch.org/wp-content/uploads/2022/03/worship.jpg
END:VEVENT
BEGIN:VEVENT
DTSTART;TZID=UTC:20240707T163000
DTEND;TZID=UTC:20240707T173000
DTSTAMP:20260424T104550
CREATED:20220918T214705Z
LAST-MODIFIED:20240707T215359Z
UID:10001295-1720369800-1720373400@littlebritainchurch.org
SUMMARY:Combined Prayer Service
DESCRIPTION:Join us for a combined prayer service at Middle Octorara Church today at 4:30 p.m. \nShare this:\n				Share on Facebook (Opens in new window)\n				Facebook\n			\n				Share on X (Opens in new window)\n				X
URL:https://littlebritainchurch.org/event/united-in-prayer-combined-worship-service/
LOCATION:Union EPC\, 5637 Street Rd\, Kirkwood\, PA\, 17536\, United States
ATTACH;FMTTYPE=image/jpeg:https://littlebritainchurch.org/wp-content/uploads/2022/03/prayer.jpg
END:VEVENT
BEGIN:VEVENT
DTSTART;TZID=UTC:20260505T130000
DTEND;TZID=UTC:20260505T150000
DTSTAMP:20260424T104550
CREATED:20260103T055022Z
LAST-MODIFIED:20260105T011244Z
UID:10004280-1777986000-1777993200@littlebritainchurch.org
SUMMARY:Women's Bible Study
DESCRIPTION:The Women’s Bible Study will meet the first Tuesday of the month at 1:00 p.m. at the church. All women are welcome!\n(Contact Judy Blore at 215-858-7568 for more information.) \nShare this:\n				Share on Facebook (Opens in new window)\n				Facebook\n			\n				Share on X (Opens in new window)\n				X
URL:https://littlebritainchurch.org/event/womens-bible-study/2026-05-05/
LOCATION:Little Britain Presbyterian Church\, 255 Little Britain Church Road\, Peach Bottom\, PA\, 17563\, United States
ATTACH;FMTTYPE=image/jpeg:https://littlebritainchurch.org/wp-content/uploads/2022/09/women-s-bible-study-clipart-large-8.jpg
END:VEVENT
BEGIN:VEVENT
DTSTART;TZID=UTC:20260506T183000
DTEND;TZID=UTC:20260506T200000
DTSTAMP:20260424T104550
CREATED:20250928T221521Z
LAST-MODIFIED:20260109T135452Z
UID:10003742-1778092200-1778097600@littlebritainchurch.org
SUMMARY:Bell Choir
DESCRIPTION:The Bell Choir practice is on Wednesday evenings at 6:30 p.m.  Please come join this fun group. \nShare this:\n				Share on Facebook (Opens in new window)\n				Facebook\n			\n				Share on X (Opens in new window)\n				X
URL:https://littlebritainchurch.org/event/bell-choir-3-3-2-2/2026-05-06/
LOCATION:PA
ATTACH;FMTTYPE=image/jpeg:https://littlebritainchurch.org/wp-content/uploads/2022/09/handbell_choir_image.jpg
END:VEVENT
BEGIN:VEVENT
DTSTART;TZID=UTC:20260506T193000
DTEND;TZID=UTC:20260506T210000
DTSTAMP:20260424T104550
CREATED:20250831T212725Z
LAST-MODIFIED:20260109T135618Z
UID:10001223-1778095800-1778101200@littlebritainchurch.org
SUMMARY:Bible Study (ZOOM)
DESCRIPTION:A new Zoom Bible Study on 1 Corinthians begins Wed.\, Jan. 14th at 7:30 p.m.  We would love to have you join.  Let Pastor Tom know at lbpc1732@gmail.com and you will be sent the zoom link. \nShare this:\n				Share on Facebook (Opens in new window)\n				Facebook\n			\n				Share on X (Opens in new window)\n				X
URL:https://littlebritainchurch.org/event/bible-study-zoom-2/2026-05-06/
LOCATION:PA
ATTACH;FMTTYPE=image/png:https://littlebritainchurch.org/wp-content/uploads/2022/09/15109_3_5.png
END:VEVENT
BEGIN:VEVENT
DTSTART;TZID=UTC:20260508T130000
DTEND;TZID=UTC:20260508T140000
DTSTAMP:20260424T104550
CREATED:20220922T200245Z
LAST-MODIFIED:20260423T162338Z
UID:10005184-1778245200-1778248800@littlebritainchurch.org
SUMMARY:Friday Prayer Group
DESCRIPTION:Join our Time of Prayer through Zoom on Fridays in the new year.  We have a new time\, 1:00 p.m.  It is great to pause in the middle of the day and gather together in prayer.  Let Pastor Tom know if you would like to be sent the zoom link to join us. \nShare this:\n				Share on Facebook (Opens in new window)\n				Facebook\n			\n				Share on X (Opens in new window)\n				X
URL:https://littlebritainchurch.org/event/friday-prayer-group/2026-05-08/
LOCATION:PA
ATTACH;FMTTYPE=image/jpeg:https://littlebritainchurch.org/wp-content/uploads/2022/03/prayer.jpg
END:VEVENT
BEGIN:VEVENT
DTSTART;TZID=UTC:20260510T090000
DTEND;TZID=UTC:20260510T091500
DTSTAMP:20260424T104550
CREATED:20220922T195957Z
LAST-MODIFIED:20220922T195957Z
UID:10001747-1778403600-1778404500@littlebritainchurch.org
SUMMARY:Sunday Prayer Session
DESCRIPTION:Let’s join together in prayer: Sunday Morning from 9:00-9:15 in the conference room. \nShare this:\n				Share on Facebook (Opens in new window)\n				Facebook\n			\n				Share on X (Opens in new window)\n				X
URL:https://littlebritainchurch.org/event/sunday-prayer-session/2026-05-10/
LOCATION:Little Britain Presbyterian Church\, 255 Little Britain Church Road\, Peach Bottom\, PA\, 17563\, United States
ATTACH;FMTTYPE=image/jpeg:https://littlebritainchurch.org/wp-content/uploads/2022/03/prayer.jpg
END:VEVENT
BEGIN:VEVENT
DTSTART;TZID=UTC:20260510T103000
DTEND;TZID=UTC:20260510T234500
DTSTAMP:20260424T104550
CREATED:20221024T055438Z
LAST-MODIFIED:20221222T010804Z
UID:10002269-1778409000-1778456700@littlebritainchurch.org
SUMMARY:Sunday Worship Service
DESCRIPTION:Each Sunday morning\, we gather for worship to be refreshed by and through the word of God. Please join us for worship at 10:30 AM in our Sanctuary or watch on Facebook Live. \nShare this:\n				Share on Facebook (Opens in new window)\n				Facebook\n			\n				Share on X (Opens in new window)\n				X
URL:https://littlebritainchurch.org/event/sunday-worship-service-2/2026-05-10/
LOCATION:Little Britain Presbyterian Church\, 255 Little Britain Church Road\, Peach Bottom\, PA\, 17563\, United States
ATTACH;FMTTYPE=image/jpeg:https://littlebritainchurch.org/wp-content/uploads/2022/03/worship.jpg
END:VEVENT
BEGIN:VEVENT
DTSTART;TZID=UTC:20260510T113000
DTEND;TZID=UTC:20260510T130000
DTSTAMP:20260424T104550
CREATED:20240322T214624Z
LAST-MODIFIED:20240322T214625Z
UID:10002752-1778412600-1778418000@littlebritainchurch.org
SUMMARY:2nd Sunday Social
DESCRIPTION:Please plan to join us for a time of fellowship and refreshments following worship today. \n  \nShare this:\n				Share on Facebook (Opens in new window)\n				Facebook\n			\n				Share on X (Opens in new window)\n				X
URL:https://littlebritainchurch.org/event/2nd-sunday-social-2-2/2026-05-10/
LOCATION:Little Britain Presbyterian Church\, 255 Little Britain Church Road\, Peach Bottom\, PA\, 17563\, United States
END:VEVENT
BEGIN:VEVENT
DTSTART;TZID=UTC:20260512T183000
DTEND;TZID=UTC:20260512T203000
DTSTAMP:20260424T104550
CREATED:20220408T044639Z
LAST-MODIFIED:20260413T022944Z
UID:10000697-1778610600-1778617800@littlebritainchurch.org
SUMMARY:Mother Daughter Banquet
DESCRIPTION:Our annual Mother-Daughter Banquet is scheduled for Tues.\, May 12th at 6:30 p.m.  The speaker will be Marilyn Martin\, who will share a program entitled “Laughing My Way Through the Storm.”  Tickets are available at a cost of $10.00 for adults\, $5.00 for children 4-12\, and free to those under 4.  Please see Judy Blore or Joyce Holloway for tickets.  Please invite your mothers\, daughters\, sisters\, friends\, etc. for an evening of fellowship and inspiration. \nShare this:\n				Share on Facebook (Opens in new window)\n				Facebook\n			\n				Share on X (Opens in new window)\n				X
URL:https://littlebritainchurch.org/event/mother-daughter-banquet/
LOCATION:Little Britain Presbyterian Church\, 255 Little Britain Church Road\, Peach Bottom\, PA\, 17563\, United States
ATTACH;FMTTYPE=image/jpeg:https://littlebritainchurch.org/wp-content/uploads/2022/04/Mother-Daughter-Banquet.jpg
END:VEVENT
BEGIN:VEVENT
DTSTART;TZID=UTC:20260513T183000
DTEND;TZID=UTC:20260513T200000
DTSTAMP:20260424T104550
CREATED:20250928T221521Z
LAST-MODIFIED:20260109T135452Z
UID:10003743-1778697000-1778702400@littlebritainchurch.org
SUMMARY:Bell Choir
DESCRIPTION:The Bell Choir practice is on Wednesday evenings at 6:30 p.m.  Please come join this fun group. \nShare this:\n				Share on Facebook (Opens in new window)\n				Facebook\n			\n				Share on X (Opens in new window)\n				X
URL:https://littlebritainchurch.org/event/bell-choir-3-3-2-2/2026-05-13/
LOCATION:PA
ATTACH;FMTTYPE=image/jpeg:https://littlebritainchurch.org/wp-content/uploads/2022/09/handbell_choir_image.jpg
END:VEVENT
END:VCALENDAR