BEGIN:VCALENDAR
VERSION:2.0
PRODID:-//Little Britain Presbyterian Church - ECPv6.15.20//NONSGML v1.0//EN
CALSCALE:GREGORIAN
METHOD:PUBLISH
X-WR-CALNAME:Little Britain Presbyterian Church
X-ORIGINAL-URL:https://littlebritainchurch.org
X-WR-CALDESC:Events for Little Britain Presbyterian Church
REFRESH-INTERVAL;VALUE=DURATION:PT1H
X-Robots-Tag:noindex
X-PUBLISHED-TTL:PT1H
BEGIN:VTIMEZONE
TZID:UTC
BEGIN:STANDARD
TZOFFSETFROM:+0000
TZOFFSETTO:+0000
TZNAME:UTC
DTSTART:20250101T000000
END:STANDARD
END:VTIMEZONE
BEGIN:VEVENT
DTSTART;TZID=UTC:20260621T090000
DTEND;TZID=UTC:20260621T091500
DTSTAMP:20260424T225650
CREATED:20220922T195957Z
LAST-MODIFIED:20220922T195957Z
UID:10001753-1782032400-1782033300@littlebritainchurch.org
SUMMARY:Sunday Prayer Session
DESCRIPTION:Let’s join together in prayer: Sunday Morning from 9:00-9:15 in the conference room. \nShare this:\n				Share on Facebook (Opens in new window)\n				Facebook\n			\n				Share on X (Opens in new window)\n				X
URL:https://littlebritainchurch.org/event/sunday-prayer-session/2026-06-21/
LOCATION:Little Britain Presbyterian Church\, 255 Little Britain Church Road\, Peach Bottom\, PA\, 17563\, United States
ATTACH;FMTTYPE=image/jpeg:https://littlebritainchurch.org/wp-content/uploads/2022/03/prayer.jpg
END:VEVENT
BEGIN:VEVENT
DTSTART;TZID=UTC:20260621T103000
DTEND;TZID=UTC:20260621T234500
DTSTAMP:20260424T225650
CREATED:20221024T055438Z
LAST-MODIFIED:20221222T010804Z
UID:10002275-1782037800-1782085500@littlebritainchurch.org
SUMMARY:Sunday Worship Service
DESCRIPTION:Each Sunday morning\, we gather for worship to be refreshed by and through the word of God. Please join us for worship at 10:30 AM in our Sanctuary or watch on Facebook Live. \nShare this:\n				Share on Facebook (Opens in new window)\n				Facebook\n			\n				Share on X (Opens in new window)\n				X
URL:https://littlebritainchurch.org/event/sunday-worship-service-2/2026-06-21/
LOCATION:Little Britain Presbyterian Church\, 255 Little Britain Church Road\, Peach Bottom\, PA\, 17563\, United States
ATTACH;FMTTYPE=image/jpeg:https://littlebritainchurch.org/wp-content/uploads/2022/03/worship.jpg
END:VEVENT
BEGIN:VEVENT
DTSTART;TZID=UTC:20260624T183000
DTEND;TZID=UTC:20260624T200000
DTSTAMP:20260424T225651
CREATED:20250928T221521Z
LAST-MODIFIED:20260109T135452Z
UID:10003749-1782325800-1782331200@littlebritainchurch.org
SUMMARY:Bell Choir
DESCRIPTION:The Bell Choir practice is on Wednesday evenings at 6:30 p.m.  Please come join this fun group. \nShare this:\n				Share on Facebook (Opens in new window)\n				Facebook\n			\n				Share on X (Opens in new window)\n				X
URL:https://littlebritainchurch.org/event/bell-choir-3-3-2-2/2026-06-24/
ATTACH;FMTTYPE=image/jpeg:https://littlebritainchurch.org/wp-content/uploads/2022/09/handbell_choir_image.jpg
END:VEVENT
BEGIN:VEVENT
DTSTART;TZID=UTC:20260624T193000
DTEND;TZID=UTC:20260624T210000
DTSTAMP:20260424T225651
CREATED:20250831T212725Z
LAST-MODIFIED:20260109T135618Z
UID:10001230-1782329400-1782334800@littlebritainchurch.org
SUMMARY:Bible Study (ZOOM)
DESCRIPTION:A new Zoom Bible Study on 1 Corinthians begins Wed.\, Jan. 14th at 7:30 p.m.  We would love to have you join.  Let Pastor Tom know at lbpc1732@gmail.com and you will be sent the zoom link. \nShare this:\n				Share on Facebook (Opens in new window)\n				Facebook\n			\n				Share on X (Opens in new window)\n				X
URL:https://littlebritainchurch.org/event/bible-study-zoom-2/2026-06-24/
ATTACH;FMTTYPE=image/png:https://littlebritainchurch.org/wp-content/uploads/2022/09/15109_3_5.png
END:VEVENT
BEGIN:VEVENT
DTSTART;TZID=UTC:20260626T130000
DTEND;TZID=UTC:20260626T140000
DTSTAMP:20260424T225651
CREATED:20220922T200245Z
LAST-MODIFIED:20260423T162338Z
UID:10005191-1782478800-1782482400@littlebritainchurch.org
SUMMARY:Friday Prayer Group
DESCRIPTION:Join our Time of Prayer through Zoom on Fridays in the new year.  We have a new time\, 1:00 p.m.  It is great to pause in the middle of the day and gather together in prayer.  Let Pastor Tom know if you would like to be sent the zoom link to join us. \nShare this:\n				Share on Facebook (Opens in new window)\n				Facebook\n			\n				Share on X (Opens in new window)\n				X
URL:https://littlebritainchurch.org/event/friday-prayer-group/2026-06-26/
ATTACH;FMTTYPE=image/jpeg:https://littlebritainchurch.org/wp-content/uploads/2022/03/prayer.jpg
END:VEVENT
BEGIN:VEVENT
DTSTART;TZID=UTC:20260628T090000
DTEND;TZID=UTC:20260628T091500
DTSTAMP:20260424T225651
CREATED:20220922T195957Z
LAST-MODIFIED:20220922T195957Z
UID:10001754-1782637200-1782638100@littlebritainchurch.org
SUMMARY:Sunday Prayer Session
DESCRIPTION:Let’s join together in prayer: Sunday Morning from 9:00-9:15 in the conference room. \nShare this:\n				Share on Facebook (Opens in new window)\n				Facebook\n			\n				Share on X (Opens in new window)\n				X
URL:https://littlebritainchurch.org/event/sunday-prayer-session/2026-06-28/
LOCATION:Little Britain Presbyterian Church\, 255 Little Britain Church Road\, Peach Bottom\, PA\, 17563\, United States
ATTACH;FMTTYPE=image/jpeg:https://littlebritainchurch.org/wp-content/uploads/2022/03/prayer.jpg
END:VEVENT
BEGIN:VEVENT
DTSTART;TZID=UTC:20260628T103000
DTEND;TZID=UTC:20260628T234500
DTSTAMP:20260424T225651
CREATED:20221024T055438Z
LAST-MODIFIED:20221222T010804Z
UID:10002276-1782642600-1782690300@littlebritainchurch.org
SUMMARY:Sunday Worship Service
DESCRIPTION:Each Sunday morning\, we gather for worship to be refreshed by and through the word of God. Please join us for worship at 10:30 AM in our Sanctuary or watch on Facebook Live. \nShare this:\n				Share on Facebook (Opens in new window)\n				Facebook\n			\n				Share on X (Opens in new window)\n				X
URL:https://littlebritainchurch.org/event/sunday-worship-service-2/2026-06-28/
LOCATION:Little Britain Presbyterian Church\, 255 Little Britain Church Road\, Peach Bottom\, PA\, 17563\, United States
ATTACH;FMTTYPE=image/jpeg:https://littlebritainchurch.org/wp-content/uploads/2022/03/worship.jpg
END:VEVENT
BEGIN:VEVENT
DTSTART;TZID=UTC:20260701T183000
DTEND;TZID=UTC:20260701T200000
DTSTAMP:20260424T225651
CREATED:20250928T221521Z
LAST-MODIFIED:20260109T135452Z
UID:10003750-1782930600-1782936000@littlebritainchurch.org
SUMMARY:Bell Choir
DESCRIPTION:The Bell Choir practice is on Wednesday evenings at 6:30 p.m.  Please come join this fun group. \nShare this:\n				Share on Facebook (Opens in new window)\n				Facebook\n			\n				Share on X (Opens in new window)\n				X
URL:https://littlebritainchurch.org/event/bell-choir-3-3-2-2/2026-07-01/
ATTACH;FMTTYPE=image/jpeg:https://littlebritainchurch.org/wp-content/uploads/2022/09/handbell_choir_image.jpg
END:VEVENT
BEGIN:VEVENT
DTSTART;TZID=UTC:20260701T193000
DTEND;TZID=UTC:20260701T210000
DTSTAMP:20260424T225651
CREATED:20250831T212725Z
LAST-MODIFIED:20260109T135618Z
UID:10001231-1782934200-1782939600@littlebritainchurch.org
SUMMARY:Bible Study (ZOOM)
DESCRIPTION:A new Zoom Bible Study on 1 Corinthians begins Wed.\, Jan. 14th at 7:30 p.m.  We would love to have you join.  Let Pastor Tom know at lbpc1732@gmail.com and you will be sent the zoom link. \nShare this:\n				Share on Facebook (Opens in new window)\n				Facebook\n			\n				Share on X (Opens in new window)\n				X
URL:https://littlebritainchurch.org/event/bible-study-zoom-2/2026-07-01/
ATTACH;FMTTYPE=image/png:https://littlebritainchurch.org/wp-content/uploads/2022/09/15109_3_5.png
END:VEVENT
BEGIN:VEVENT
DTSTART;TZID=UTC:20260703T130000
DTEND;TZID=UTC:20260703T140000
DTSTAMP:20260424T225651
CREATED:20220922T200245Z
LAST-MODIFIED:20260423T162338Z
UID:10005192-1783083600-1783087200@littlebritainchurch.org
SUMMARY:Friday Prayer Group
DESCRIPTION:Join our Time of Prayer through Zoom on Fridays in the new year.  We have a new time\, 1:00 p.m.  It is great to pause in the middle of the day and gather together in prayer.  Let Pastor Tom know if you would like to be sent the zoom link to join us. \nShare this:\n				Share on Facebook (Opens in new window)\n				Facebook\n			\n				Share on X (Opens in new window)\n				X
URL:https://littlebritainchurch.org/event/friday-prayer-group/2026-07-03/
ATTACH;FMTTYPE=image/jpeg:https://littlebritainchurch.org/wp-content/uploads/2022/03/prayer.jpg
END:VEVENT
BEGIN:VEVENT
DTSTART;TZID=UTC:20260705T090000
DTEND;TZID=UTC:20260705T091500
DTSTAMP:20260424T225651
CREATED:20220922T195957Z
LAST-MODIFIED:20220922T195957Z
UID:10001755-1783242000-1783242900@littlebritainchurch.org
SUMMARY:Sunday Prayer Session
DESCRIPTION:Let’s join together in prayer: Sunday Morning from 9:00-9:15 in the conference room. \nShare this:\n				Share on Facebook (Opens in new window)\n				Facebook\n			\n				Share on X (Opens in new window)\n				X
URL:https://littlebritainchurch.org/event/sunday-prayer-session/2026-07-05/
LOCATION:Little Britain Presbyterian Church\, 255 Little Britain Church Road\, Peach Bottom\, PA\, 17563\, United States
ATTACH;FMTTYPE=image/jpeg:https://littlebritainchurch.org/wp-content/uploads/2022/03/prayer.jpg
END:VEVENT
BEGIN:VEVENT
DTSTART;TZID=UTC:20260705T103000
DTEND;TZID=UTC:20260705T114500
DTSTAMP:20260424T225651
CREATED:20240505T160846Z
LAST-MODIFIED:20240505T160914Z
UID:10002835-1783247400-1783251900@littlebritainchurch.org
SUMMARY:Communion
DESCRIPTION:This Sunday is Holy Communion\, please come with your hearts prepared. \nShare this:\n				Share on Facebook (Opens in new window)\n				Facebook\n			\n				Share on X (Opens in new window)\n				X
URL:https://littlebritainchurch.org/event/communion-2/2026-07-05/
LOCATION:Little Britain Presbyterian Church\, 255 Little Britain Church Road\, Peach Bottom\, PA\, 17563\, United States
ATTACH;FMTTYPE=image/jpeg:https://littlebritainchurch.org/wp-content/uploads/2019/08/communion.jpg
END:VEVENT
BEGIN:VEVENT
DTSTART;TZID=UTC:20260705T103000
DTEND;TZID=UTC:20260705T234500
DTSTAMP:20260424T225651
CREATED:20221024T055438Z
LAST-MODIFIED:20221222T010804Z
UID:10002277-1783247400-1783295100@littlebritainchurch.org
SUMMARY:Sunday Worship Service
DESCRIPTION:Each Sunday morning\, we gather for worship to be refreshed by and through the word of God. Please join us for worship at 10:30 AM in our Sanctuary or watch on Facebook Live. \nShare this:\n				Share on Facebook (Opens in new window)\n				Facebook\n			\n				Share on X (Opens in new window)\n				X
URL:https://littlebritainchurch.org/event/sunday-worship-service-2/2026-07-05/
LOCATION:Little Britain Presbyterian Church\, 255 Little Britain Church Road\, Peach Bottom\, PA\, 17563\, United States
ATTACH;FMTTYPE=image/jpeg:https://littlebritainchurch.org/wp-content/uploads/2022/03/worship.jpg
END:VEVENT
BEGIN:VEVENT
DTSTART;TZID=UTC:20260707T130000
DTEND;TZID=UTC:20260707T150000
DTSTAMP:20260424T225651
CREATED:20260103T055022Z
LAST-MODIFIED:20260105T011244Z
UID:10004282-1783429200-1783436400@littlebritainchurch.org
SUMMARY:Women's Bible Study
DESCRIPTION:The Women’s Bible Study will meet the first Tuesday of the month at 1:00 p.m. at the church. All women are welcome!\n(Contact Judy Blore at 215-858-7568 for more information.) \nShare this:\n				Share on Facebook (Opens in new window)\n				Facebook\n			\n				Share on X (Opens in new window)\n				X
URL:https://littlebritainchurch.org/event/womens-bible-study/2026-07-07/
LOCATION:Little Britain Presbyterian Church\, 255 Little Britain Church Road\, Peach Bottom\, PA\, 17563\, United States
ATTACH;FMTTYPE=image/jpeg:https://littlebritainchurch.org/wp-content/uploads/2022/09/women-s-bible-study-clipart-large-8.jpg
END:VEVENT
BEGIN:VEVENT
DTSTART;TZID=UTC:20260708T183000
DTEND;TZID=UTC:20260708T200000
DTSTAMP:20260424T225651
CREATED:20250928T221521Z
LAST-MODIFIED:20260109T135452Z
UID:10003751-1783535400-1783540800@littlebritainchurch.org
SUMMARY:Bell Choir
DESCRIPTION:The Bell Choir practice is on Wednesday evenings at 6:30 p.m.  Please come join this fun group. \nShare this:\n				Share on Facebook (Opens in new window)\n				Facebook\n			\n				Share on X (Opens in new window)\n				X
URL:https://littlebritainchurch.org/event/bell-choir-3-3-2-2/2026-07-08/
ATTACH;FMTTYPE=image/jpeg:https://littlebritainchurch.org/wp-content/uploads/2022/09/handbell_choir_image.jpg
END:VEVENT
BEGIN:VEVENT
DTSTART;TZID=UTC:20260708T193000
DTEND;TZID=UTC:20260708T210000
DTSTAMP:20260424T225651
CREATED:20250831T212725Z
LAST-MODIFIED:20260109T135618Z
UID:10001232-1783539000-1783544400@littlebritainchurch.org
SUMMARY:Bible Study (ZOOM)
DESCRIPTION:A new Zoom Bible Study on 1 Corinthians begins Wed.\, Jan. 14th at 7:30 p.m.  We would love to have you join.  Let Pastor Tom know at lbpc1732@gmail.com and you will be sent the zoom link. \nShare this:\n				Share on Facebook (Opens in new window)\n				Facebook\n			\n				Share on X (Opens in new window)\n				X
URL:https://littlebritainchurch.org/event/bible-study-zoom-2/2026-07-08/
ATTACH;FMTTYPE=image/png:https://littlebritainchurch.org/wp-content/uploads/2022/09/15109_3_5.png
END:VEVENT
BEGIN:VEVENT
DTSTART;TZID=UTC:20260710T130000
DTEND;TZID=UTC:20260710T140000
DTSTAMP:20260424T225651
CREATED:20220922T200245Z
LAST-MODIFIED:20260423T162338Z
UID:10005193-1783688400-1783692000@littlebritainchurch.org
SUMMARY:Friday Prayer Group
DESCRIPTION:Join our Time of Prayer through Zoom on Fridays in the new year.  We have a new time\, 1:00 p.m.  It is great to pause in the middle of the day and gather together in prayer.  Let Pastor Tom know if you would like to be sent the zoom link to join us. \nShare this:\n				Share on Facebook (Opens in new window)\n				Facebook\n			\n				Share on X (Opens in new window)\n				X
URL:https://littlebritainchurch.org/event/friday-prayer-group/2026-07-10/
ATTACH;FMTTYPE=image/jpeg:https://littlebritainchurch.org/wp-content/uploads/2022/03/prayer.jpg
END:VEVENT
BEGIN:VEVENT
DTSTART;TZID=UTC:20260712T090000
DTEND;TZID=UTC:20260712T091500
DTSTAMP:20260424T225651
CREATED:20220922T195957Z
LAST-MODIFIED:20220922T195957Z
UID:10001756-1783846800-1783847700@littlebritainchurch.org
SUMMARY:Sunday Prayer Session
DESCRIPTION:Let’s join together in prayer: Sunday Morning from 9:00-9:15 in the conference room. \nShare this:\n				Share on Facebook (Opens in new window)\n				Facebook\n			\n				Share on X (Opens in new window)\n				X
URL:https://littlebritainchurch.org/event/sunday-prayer-session/2026-07-12/
LOCATION:Little Britain Presbyterian Church\, 255 Little Britain Church Road\, Peach Bottom\, PA\, 17563\, United States
ATTACH;FMTTYPE=image/jpeg:https://littlebritainchurch.org/wp-content/uploads/2022/03/prayer.jpg
END:VEVENT
BEGIN:VEVENT
DTSTART;TZID=UTC:20260712T103000
DTEND;TZID=UTC:20260712T234500
DTSTAMP:20260424T225651
CREATED:20221024T055438Z
LAST-MODIFIED:20221222T010804Z
UID:10002278-1783852200-1783899900@littlebritainchurch.org
SUMMARY:Sunday Worship Service
DESCRIPTION:Each Sunday morning\, we gather for worship to be refreshed by and through the word of God. Please join us for worship at 10:30 AM in our Sanctuary or watch on Facebook Live. \nShare this:\n				Share on Facebook (Opens in new window)\n				Facebook\n			\n				Share on X (Opens in new window)\n				X
URL:https://littlebritainchurch.org/event/sunday-worship-service-2/2026-07-12/
LOCATION:Little Britain Presbyterian Church\, 255 Little Britain Church Road\, Peach Bottom\, PA\, 17563\, United States
ATTACH;FMTTYPE=image/jpeg:https://littlebritainchurch.org/wp-content/uploads/2022/03/worship.jpg
END:VEVENT
BEGIN:VEVENT
DTSTART;TZID=UTC:20260712T113000
DTEND;TZID=UTC:20260712T130000
DTSTAMP:20260424T225651
CREATED:20240322T214624Z
LAST-MODIFIED:20240322T214625Z
UID:10002754-1783855800-1783861200@littlebritainchurch.org
SUMMARY:2nd Sunday Social
DESCRIPTION:Please plan to join us for a time of fellowship and refreshments following worship today. \n  \nShare this:\n				Share on Facebook (Opens in new window)\n				Facebook\n			\n				Share on X (Opens in new window)\n				X
URL:https://littlebritainchurch.org/event/2nd-sunday-social-2-2/2026-07-12/
LOCATION:Little Britain Presbyterian Church\, 255 Little Britain Church Road\, Peach Bottom\, PA\, 17563\, United States
END:VEVENT
BEGIN:VEVENT
DTSTART;TZID=UTC:20260715T183000
DTEND;TZID=UTC:20260715T200000
DTSTAMP:20260424T225651
CREATED:20250928T221521Z
LAST-MODIFIED:20260109T135452Z
UID:10003752-1784140200-1784145600@littlebritainchurch.org
SUMMARY:Bell Choir
DESCRIPTION:The Bell Choir practice is on Wednesday evenings at 6:30 p.m.  Please come join this fun group. \nShare this:\n				Share on Facebook (Opens in new window)\n				Facebook\n			\n				Share on X (Opens in new window)\n				X
URL:https://littlebritainchurch.org/event/bell-choir-3-3-2-2/2026-07-15/
ATTACH;FMTTYPE=image/jpeg:https://littlebritainchurch.org/wp-content/uploads/2022/09/handbell_choir_image.jpg
END:VEVENT
BEGIN:VEVENT
DTSTART;TZID=UTC:20260715T193000
DTEND;TZID=UTC:20260715T210000
DTSTAMP:20260424T225651
CREATED:20250831T212725Z
LAST-MODIFIED:20260109T135618Z
UID:10001233-1784143800-1784149200@littlebritainchurch.org
SUMMARY:Bible Study (ZOOM)
DESCRIPTION:A new Zoom Bible Study on 1 Corinthians begins Wed.\, Jan. 14th at 7:30 p.m.  We would love to have you join.  Let Pastor Tom know at lbpc1732@gmail.com and you will be sent the zoom link. \nShare this:\n				Share on Facebook (Opens in new window)\n				Facebook\n			\n				Share on X (Opens in new window)\n				X
URL:https://littlebritainchurch.org/event/bible-study-zoom-2/2026-07-15/
ATTACH;FMTTYPE=image/png:https://littlebritainchurch.org/wp-content/uploads/2022/09/15109_3_5.png
END:VEVENT
BEGIN:VEVENT
DTSTART;TZID=UTC:20260717T130000
DTEND;TZID=UTC:20260717T140000
DTSTAMP:20260424T225651
CREATED:20220922T200245Z
LAST-MODIFIED:20260423T162338Z
UID:10005194-1784293200-1784296800@littlebritainchurch.org
SUMMARY:Friday Prayer Group
DESCRIPTION:Join our Time of Prayer through Zoom on Fridays in the new year.  We have a new time\, 1:00 p.m.  It is great to pause in the middle of the day and gather together in prayer.  Let Pastor Tom know if you would like to be sent the zoom link to join us. \nShare this:\n				Share on Facebook (Opens in new window)\n				Facebook\n			\n				Share on X (Opens in new window)\n				X
URL:https://littlebritainchurch.org/event/friday-prayer-group/2026-07-17/
ATTACH;FMTTYPE=image/jpeg:https://littlebritainchurch.org/wp-content/uploads/2022/03/prayer.jpg
END:VEVENT
BEGIN:VEVENT
DTSTART;TZID=UTC:20260719T090000
DTEND;TZID=UTC:20260719T091500
DTSTAMP:20260424T225651
CREATED:20220922T195957Z
LAST-MODIFIED:20220922T195957Z
UID:10001757-1784451600-1784452500@littlebritainchurch.org
SUMMARY:Sunday Prayer Session
DESCRIPTION:Let’s join together in prayer: Sunday Morning from 9:00-9:15 in the conference room. \nShare this:\n				Share on Facebook (Opens in new window)\n				Facebook\n			\n				Share on X (Opens in new window)\n				X
URL:https://littlebritainchurch.org/event/sunday-prayer-session/2026-07-19/
LOCATION:Little Britain Presbyterian Church\, 255 Little Britain Church Road\, Peach Bottom\, PA\, 17563\, United States
ATTACH;FMTTYPE=image/jpeg:https://littlebritainchurch.org/wp-content/uploads/2022/03/prayer.jpg
END:VEVENT
BEGIN:VEVENT
DTSTART;TZID=UTC:20260719T103000
DTEND;TZID=UTC:20260719T234500
DTSTAMP:20260424T225651
CREATED:20221024T055438Z
LAST-MODIFIED:20221222T010804Z
UID:10002279-1784457000-1784504700@littlebritainchurch.org
SUMMARY:Sunday Worship Service
DESCRIPTION:Each Sunday morning\, we gather for worship to be refreshed by and through the word of God. Please join us for worship at 10:30 AM in our Sanctuary or watch on Facebook Live. \nShare this:\n				Share on Facebook (Opens in new window)\n				Facebook\n			\n				Share on X (Opens in new window)\n				X
URL:https://littlebritainchurch.org/event/sunday-worship-service-2/2026-07-19/
LOCATION:Little Britain Presbyterian Church\, 255 Little Britain Church Road\, Peach Bottom\, PA\, 17563\, United States
ATTACH;FMTTYPE=image/jpeg:https://littlebritainchurch.org/wp-content/uploads/2022/03/worship.jpg
END:VEVENT
BEGIN:VEVENT
DTSTART;TZID=UTC:20260722T183000
DTEND;TZID=UTC:20260722T200000
DTSTAMP:20260424T225651
CREATED:20250928T221521Z
LAST-MODIFIED:20260109T135452Z
UID:10003753-1784745000-1784750400@littlebritainchurch.org
SUMMARY:Bell Choir
DESCRIPTION:The Bell Choir practice is on Wednesday evenings at 6:30 p.m.  Please come join this fun group. \nShare this:\n				Share on Facebook (Opens in new window)\n				Facebook\n			\n				Share on X (Opens in new window)\n				X
URL:https://littlebritainchurch.org/event/bell-choir-3-3-2-2/2026-07-22/
ATTACH;FMTTYPE=image/jpeg:https://littlebritainchurch.org/wp-content/uploads/2022/09/handbell_choir_image.jpg
END:VEVENT
BEGIN:VEVENT
DTSTART;TZID=UTC:20260722T193000
DTEND;TZID=UTC:20260722T210000
DTSTAMP:20260424T225651
CREATED:20250831T212725Z
LAST-MODIFIED:20260109T135618Z
UID:10001234-1784748600-1784754000@littlebritainchurch.org
SUMMARY:Bible Study (ZOOM)
DESCRIPTION:A new Zoom Bible Study on 1 Corinthians begins Wed.\, Jan. 14th at 7:30 p.m.  We would love to have you join.  Let Pastor Tom know at lbpc1732@gmail.com and you will be sent the zoom link. \nShare this:\n				Share on Facebook (Opens in new window)\n				Facebook\n			\n				Share on X (Opens in new window)\n				X
URL:https://littlebritainchurch.org/event/bible-study-zoom-2/2026-07-22/
ATTACH;FMTTYPE=image/png:https://littlebritainchurch.org/wp-content/uploads/2022/09/15109_3_5.png
END:VEVENT
BEGIN:VEVENT
DTSTART;TZID=UTC:20260724T130000
DTEND;TZID=UTC:20260724T140000
DTSTAMP:20260424T225651
CREATED:20220922T200245Z
LAST-MODIFIED:20260423T162338Z
UID:10005195-1784898000-1784901600@littlebritainchurch.org
SUMMARY:Friday Prayer Group
DESCRIPTION:Join our Time of Prayer through Zoom on Fridays in the new year.  We have a new time\, 1:00 p.m.  It is great to pause in the middle of the day and gather together in prayer.  Let Pastor Tom know if you would like to be sent the zoom link to join us. \nShare this:\n				Share on Facebook (Opens in new window)\n				Facebook\n			\n				Share on X (Opens in new window)\n				X
URL:https://littlebritainchurch.org/event/friday-prayer-group/2026-07-24/
ATTACH;FMTTYPE=image/jpeg:https://littlebritainchurch.org/wp-content/uploads/2022/03/prayer.jpg
END:VEVENT
BEGIN:VEVENT
DTSTART;TZID=UTC:20260726T090000
DTEND;TZID=UTC:20260726T091500
DTSTAMP:20260424T225651
CREATED:20220922T195957Z
LAST-MODIFIED:20220922T195957Z
UID:10001758-1785056400-1785057300@littlebritainchurch.org
SUMMARY:Sunday Prayer Session
DESCRIPTION:Let’s join together in prayer: Sunday Morning from 9:00-9:15 in the conference room. \nShare this:\n				Share on Facebook (Opens in new window)\n				Facebook\n			\n				Share on X (Opens in new window)\n				X
URL:https://littlebritainchurch.org/event/sunday-prayer-session/2026-07-26/
LOCATION:Little Britain Presbyterian Church\, 255 Little Britain Church Road\, Peach Bottom\, PA\, 17563\, United States
ATTACH;FMTTYPE=image/jpeg:https://littlebritainchurch.org/wp-content/uploads/2022/03/prayer.jpg
END:VEVENT
BEGIN:VEVENT
DTSTART;TZID=UTC:20260726T103000
DTEND;TZID=UTC:20260726T234500
DTSTAMP:20260424T225651
CREATED:20221024T055438Z
LAST-MODIFIED:20221222T010804Z
UID:10002280-1785061800-1785109500@littlebritainchurch.org
SUMMARY:Sunday Worship Service
DESCRIPTION:Each Sunday morning\, we gather for worship to be refreshed by and through the word of God. Please join us for worship at 10:30 AM in our Sanctuary or watch on Facebook Live. \nShare this:\n				Share on Facebook (Opens in new window)\n				Facebook\n			\n				Share on X (Opens in new window)\n				X
URL:https://littlebritainchurch.org/event/sunday-worship-service-2/2026-07-26/
LOCATION:Little Britain Presbyterian Church\, 255 Little Britain Church Road\, Peach Bottom\, PA\, 17563\, United States
ATTACH;FMTTYPE=image/jpeg:https://littlebritainchurch.org/wp-content/uploads/2022/03/worship.jpg
END:VEVENT
END:VCALENDAR