BEGIN:VCALENDAR
VERSION:2.0
PRODID:-//Little Britain Presbyterian Church - ECPv6.15.20//NONSGML v1.0//EN
CALSCALE:GREGORIAN
METHOD:PUBLISH
X-WR-CALNAME:Little Britain Presbyterian Church
X-ORIGINAL-URL:https://littlebritainchurch.org
X-WR-CALDESC:Events for Little Britain Presbyterian Church
REFRESH-INTERVAL;VALUE=DURATION:PT1H
X-Robots-Tag:noindex
X-PUBLISHED-TTL:PT1H
BEGIN:VTIMEZONE
TZID:UTC
BEGIN:STANDARD
TZOFFSETFROM:+0000
TZOFFSETTO:+0000
TZNAME:UTC
DTSTART:20250101T000000
END:STANDARD
END:VTIMEZONE
BEGIN:VEVENT
DTSTART;TZID=UTC:20260308T113000
DTEND;TZID=UTC:20260308T130000
DTSTAMP:20260424T134136
CREATED:20240322T214624Z
LAST-MODIFIED:20240322T214625Z
UID:10002750-1772969400-1772974800@littlebritainchurch.org
SUMMARY:2nd Sunday Social
DESCRIPTION:Please plan to join us for a time of fellowship and refreshments following worship today. \n  \nShare this:\n				Share on Facebook (Opens in new window)\n				Facebook\n			\n				Share on X (Opens in new window)\n				X
URL:https://littlebritainchurch.org/event/2nd-sunday-social-2-2/2026-03-08/
LOCATION:Little Britain Presbyterian Church\, 255 Little Britain Church Road\, Peach Bottom\, PA\, 17563\, United States
END:VEVENT
BEGIN:VEVENT
DTSTART;TZID=UTC:20260308T103000
DTEND;TZID=UTC:20260308T234500
DTSTAMP:20260424T134136
CREATED:20221024T055438Z
LAST-MODIFIED:20221222T010804Z
UID:10002260-1772965800-1773013500@littlebritainchurch.org
SUMMARY:Sunday Worship Service
DESCRIPTION:Each Sunday morning\, we gather for worship to be refreshed by and through the word of God. Please join us for worship at 10:30 AM in our Sanctuary or watch on Facebook Live. \nShare this:\n				Share on Facebook (Opens in new window)\n				Facebook\n			\n				Share on X (Opens in new window)\n				X
URL:https://littlebritainchurch.org/event/sunday-worship-service-2/2026-03-08/
LOCATION:Little Britain Presbyterian Church\, 255 Little Britain Church Road\, Peach Bottom\, PA\, 17563\, United States
ATTACH;FMTTYPE=image/jpeg:https://littlebritainchurch.org/wp-content/uploads/2022/03/worship.jpg
END:VEVENT
BEGIN:VEVENT
DTSTART;TZID=UTC:20260308T090000
DTEND;TZID=UTC:20260308T091500
DTSTAMP:20260424T134136
CREATED:20220922T195957Z
LAST-MODIFIED:20220922T195957Z
UID:10001738-1772960400-1772961300@littlebritainchurch.org
SUMMARY:Sunday Prayer Session
DESCRIPTION:Let’s join together in prayer: Sunday Morning from 9:00-9:15 in the conference room. \nShare this:\n				Share on Facebook (Opens in new window)\n				Facebook\n			\n				Share on X (Opens in new window)\n				X
URL:https://littlebritainchurch.org/event/sunday-prayer-session/2026-03-08/
LOCATION:Little Britain Presbyterian Church\, 255 Little Britain Church Road\, Peach Bottom\, PA\, 17563\, United States
ATTACH;FMTTYPE=image/jpeg:https://littlebritainchurch.org/wp-content/uploads/2022/03/prayer.jpg
END:VEVENT
BEGIN:VEVENT
DTSTART;TZID=UTC:20260306T130000
DTEND;TZID=UTC:20260306T140000
DTSTAMP:20260424T134136
CREATED:20220922T200245Z
LAST-MODIFIED:20260423T162338Z
UID:10005175-1772802000-1772805600@littlebritainchurch.org
SUMMARY:Friday Prayer Group
DESCRIPTION:Join our Time of Prayer through Zoom on Fridays in the new year.  We have a new time\, 1:00 p.m.  It is great to pause in the middle of the day and gather together in prayer.  Let Pastor Tom know if you would like to be sent the zoom link to join us. \nShare this:\n				Share on Facebook (Opens in new window)\n				Facebook\n			\n				Share on X (Opens in new window)\n				X
URL:https://littlebritainchurch.org/event/friday-prayer-group/2026-03-06/
LOCATION:PA
ATTACH;FMTTYPE=image/jpeg:https://littlebritainchurch.org/wp-content/uploads/2022/03/prayer.jpg
END:VEVENT
BEGIN:VEVENT
DTSTART;TZID=UTC:20260304T193000
DTEND;TZID=UTC:20260304T210000
DTSTAMP:20260424T134136
CREATED:20250831T212725Z
LAST-MODIFIED:20260109T135618Z
UID:10001214-1772652600-1772658000@littlebritainchurch.org
SUMMARY:Bible Study (ZOOM)
DESCRIPTION:A new Zoom Bible Study on 1 Corinthians begins Wed.\, Jan. 14th at 7:30 p.m.  We would love to have you join.  Let Pastor Tom know at lbpc1732@gmail.com and you will be sent the zoom link. \nShare this:\n				Share on Facebook (Opens in new window)\n				Facebook\n			\n				Share on X (Opens in new window)\n				X
URL:https://littlebritainchurch.org/event/bible-study-zoom-2/2026-03-04/
LOCATION:PA
ATTACH;FMTTYPE=image/png:https://littlebritainchurch.org/wp-content/uploads/2022/09/15109_3_5.png
END:VEVENT
BEGIN:VEVENT
DTSTART;TZID=UTC:20260304T183000
DTEND;TZID=UTC:20260304T200000
DTSTAMP:20260424T134136
CREATED:20250928T221521Z
LAST-MODIFIED:20260109T135452Z
UID:10003733-1772649000-1772654400@littlebritainchurch.org
SUMMARY:Bell Choir
DESCRIPTION:The Bell Choir practice is on Wednesday evenings at 6:30 p.m.  Please come join this fun group. \nShare this:\n				Share on Facebook (Opens in new window)\n				Facebook\n			\n				Share on X (Opens in new window)\n				X
URL:https://littlebritainchurch.org/event/bell-choir-3-3-2-2/2026-03-04/
LOCATION:PA
ATTACH;FMTTYPE=image/jpeg:https://littlebritainchurch.org/wp-content/uploads/2022/09/handbell_choir_image.jpg
END:VEVENT
BEGIN:VEVENT
DTSTART;TZID=UTC:20260303T130000
DTEND;TZID=UTC:20260303T150000
DTSTAMP:20260424T134136
CREATED:20260103T055022Z
LAST-MODIFIED:20260105T011244Z
UID:10004278-1772542800-1772550000@littlebritainchurch.org
SUMMARY:Women's Bible Study
DESCRIPTION:The Women’s Bible Study will meet the first Tuesday of the month at 1:00 p.m. at the church. All women are welcome!\n(Contact Judy Blore at 215-858-7568 for more information.) \nShare this:\n				Share on Facebook (Opens in new window)\n				Facebook\n			\n				Share on X (Opens in new window)\n				X
URL:https://littlebritainchurch.org/event/womens-bible-study/2026-03-03/
LOCATION:Little Britain Presbyterian Church\, 255 Little Britain Church Road\, Peach Bottom\, PA\, 17563\, United States
ATTACH;FMTTYPE=image/jpeg:https://littlebritainchurch.org/wp-content/uploads/2022/09/women-s-bible-study-clipart-large-8.jpg
END:VEVENT
BEGIN:VEVENT
DTSTART;TZID=UTC:20260301T160000
DTEND;TZID=UTC:20260301T170000
DTSTAMP:20260424T134136
CREATED:20230226T060140Z
LAST-MODIFIED:20260221T193356Z
UID:10002701-1772380800-1772384400@littlebritainchurch.org
SUMMARY:Evening Prayer Service
DESCRIPTION:There will be an Evening Prayer Service on Sun.\, March 1st at 4:00 p.m. here at Little Britain. \nShare this:\n				Share on Facebook (Opens in new window)\n				Facebook\n			\n				Share on X (Opens in new window)\n				X
URL:https://littlebritainchurch.org/event/community-prayer-event/
LOCATION:Little Britain Presbyterian Church\, 255 Little Britain Church Road\, Peach Bottom\, PA\, 17563\, United States
ATTACH;FMTTYPE=image/jpeg:https://littlebritainchurch.org/wp-content/uploads/2022/03/114973-gorgerous-prayer-background-2000x1125-desktop-2.jpg
END:VEVENT
BEGIN:VEVENT
DTSTART;TZID=UTC:20260301T103000
DTEND;TZID=UTC:20260301T234500
DTSTAMP:20260424T134136
CREATED:20221024T055438Z
LAST-MODIFIED:20221222T010804Z
UID:10002259-1772361000-1772408700@littlebritainchurch.org
SUMMARY:Sunday Worship Service
DESCRIPTION:Each Sunday morning\, we gather for worship to be refreshed by and through the word of God. Please join us for worship at 10:30 AM in our Sanctuary or watch on Facebook Live. \nShare this:\n				Share on Facebook (Opens in new window)\n				Facebook\n			\n				Share on X (Opens in new window)\n				X
URL:https://littlebritainchurch.org/event/sunday-worship-service-2/2026-03-01/
LOCATION:Little Britain Presbyterian Church\, 255 Little Britain Church Road\, Peach Bottom\, PA\, 17563\, United States
ATTACH;FMTTYPE=image/jpeg:https://littlebritainchurch.org/wp-content/uploads/2022/03/worship.jpg
END:VEVENT
BEGIN:VEVENT
DTSTART;TZID=UTC:20260301T103000
DTEND;TZID=UTC:20260301T114500
DTSTAMP:20260424T134136
CREATED:20240505T160846Z
LAST-MODIFIED:20240505T160914Z
UID:10002831-1772361000-1772365500@littlebritainchurch.org
SUMMARY:Communion
DESCRIPTION:This Sunday is Holy Communion\, please come with your hearts prepared. \nShare this:\n				Share on Facebook (Opens in new window)\n				Facebook\n			\n				Share on X (Opens in new window)\n				X
URL:https://littlebritainchurch.org/event/communion-2/2026-03-01/
LOCATION:Little Britain Presbyterian Church\, 255 Little Britain Church Road\, Peach Bottom\, PA\, 17563\, United States
ATTACH;FMTTYPE=image/jpeg:https://littlebritainchurch.org/wp-content/uploads/2019/08/communion.jpg
END:VEVENT
BEGIN:VEVENT
DTSTART;TZID=UTC:20260301T090000
DTEND;TZID=UTC:20260301T091500
DTSTAMP:20260424T134136
CREATED:20220922T195957Z
LAST-MODIFIED:20220922T195957Z
UID:10001737-1772355600-1772356500@littlebritainchurch.org
SUMMARY:Sunday Prayer Session
DESCRIPTION:Let’s join together in prayer: Sunday Morning from 9:00-9:15 in the conference room. \nShare this:\n				Share on Facebook (Opens in new window)\n				Facebook\n			\n				Share on X (Opens in new window)\n				X
URL:https://littlebritainchurch.org/event/sunday-prayer-session/2026-03-01/
LOCATION:Little Britain Presbyterian Church\, 255 Little Britain Church Road\, Peach Bottom\, PA\, 17563\, United States
ATTACH;FMTTYPE=image/jpeg:https://littlebritainchurch.org/wp-content/uploads/2022/03/prayer.jpg
END:VEVENT
BEGIN:VEVENT
DTSTART;TZID=UTC:20260227T130000
DTEND;TZID=UTC:20260227T140000
DTSTAMP:20260424T134136
CREATED:20220922T200245Z
LAST-MODIFIED:20260423T162338Z
UID:10005174-1772197200-1772200800@littlebritainchurch.org
SUMMARY:Friday Prayer Group
DESCRIPTION:Join our Time of Prayer through Zoom on Fridays in the new year.  We have a new time\, 1:00 p.m.  It is great to pause in the middle of the day and gather together in prayer.  Let Pastor Tom know if you would like to be sent the zoom link to join us. \nShare this:\n				Share on Facebook (Opens in new window)\n				Facebook\n			\n				Share on X (Opens in new window)\n				X
URL:https://littlebritainchurch.org/event/friday-prayer-group/2026-02-27/
LOCATION:PA
ATTACH;FMTTYPE=image/jpeg:https://littlebritainchurch.org/wp-content/uploads/2022/03/prayer.jpg
END:VEVENT
BEGIN:VEVENT
DTSTART;TZID=UTC:20260225T193000
DTEND;TZID=UTC:20260225T210000
DTSTAMP:20260424T134136
CREATED:20250831T212725Z
LAST-MODIFIED:20260109T135618Z
UID:10001213-1772047800-1772053200@littlebritainchurch.org
SUMMARY:Bible Study (ZOOM)
DESCRIPTION:A new Zoom Bible Study on 1 Corinthians begins Wed.\, Jan. 14th at 7:30 p.m.  We would love to have you join.  Let Pastor Tom know at lbpc1732@gmail.com and you will be sent the zoom link. \nShare this:\n				Share on Facebook (Opens in new window)\n				Facebook\n			\n				Share on X (Opens in new window)\n				X
URL:https://littlebritainchurch.org/event/bible-study-zoom-2/2026-02-25/
LOCATION:PA
ATTACH;FMTTYPE=image/png:https://littlebritainchurch.org/wp-content/uploads/2022/09/15109_3_5.png
END:VEVENT
BEGIN:VEVENT
DTSTART;TZID=UTC:20260225T183000
DTEND;TZID=UTC:20260225T200000
DTSTAMP:20260424T134136
CREATED:20250928T221521Z
LAST-MODIFIED:20260109T135452Z
UID:10003732-1772044200-1772049600@littlebritainchurch.org
SUMMARY:Bell Choir
DESCRIPTION:The Bell Choir practice is on Wednesday evenings at 6:30 p.m.  Please come join this fun group. \nShare this:\n				Share on Facebook (Opens in new window)\n				Facebook\n			\n				Share on X (Opens in new window)\n				X
URL:https://littlebritainchurch.org/event/bell-choir-3-3-2-2/2026-02-25/
LOCATION:PA
ATTACH;FMTTYPE=image/jpeg:https://littlebritainchurch.org/wp-content/uploads/2022/09/handbell_choir_image.jpg
END:VEVENT
BEGIN:VEVENT
DTSTART;TZID=UTC:20260222T103000
DTEND;TZID=UTC:20260222T234500
DTSTAMP:20260424T134136
CREATED:20221024T055438Z
LAST-MODIFIED:20221222T010804Z
UID:10002258-1771756200-1771803900@littlebritainchurch.org
SUMMARY:Sunday Worship Service
DESCRIPTION:Each Sunday morning\, we gather for worship to be refreshed by and through the word of God. Please join us for worship at 10:30 AM in our Sanctuary or watch on Facebook Live. \nShare this:\n				Share on Facebook (Opens in new window)\n				Facebook\n			\n				Share on X (Opens in new window)\n				X
URL:https://littlebritainchurch.org/event/sunday-worship-service-2/2026-02-22/
LOCATION:Little Britain Presbyterian Church\, 255 Little Britain Church Road\, Peach Bottom\, PA\, 17563\, United States
ATTACH;FMTTYPE=image/jpeg:https://littlebritainchurch.org/wp-content/uploads/2022/03/worship.jpg
END:VEVENT
BEGIN:VEVENT
DTSTART;TZID=UTC:20260222T090000
DTEND;TZID=UTC:20260222T091500
DTSTAMP:20260424T134136
CREATED:20220922T195957Z
LAST-MODIFIED:20220922T195957Z
UID:10001736-1771750800-1771751700@littlebritainchurch.org
SUMMARY:Sunday Prayer Session
DESCRIPTION:Let’s join together in prayer: Sunday Morning from 9:00-9:15 in the conference room. \nShare this:\n				Share on Facebook (Opens in new window)\n				Facebook\n			\n				Share on X (Opens in new window)\n				X
URL:https://littlebritainchurch.org/event/sunday-prayer-session/2026-02-22/
LOCATION:Little Britain Presbyterian Church\, 255 Little Britain Church Road\, Peach Bottom\, PA\, 17563\, United States
ATTACH;FMTTYPE=image/jpeg:https://littlebritainchurch.org/wp-content/uploads/2022/03/prayer.jpg
END:VEVENT
BEGIN:VEVENT
DTSTART;TZID=UTC:20260220T130000
DTEND;TZID=UTC:20260220T140000
DTSTAMP:20260424T134136
CREATED:20220922T200245Z
LAST-MODIFIED:20260423T162338Z
UID:10005173-1771592400-1771596000@littlebritainchurch.org
SUMMARY:Friday Prayer Group
DESCRIPTION:Join our Time of Prayer through Zoom on Fridays in the new year.  We have a new time\, 1:00 p.m.  It is great to pause in the middle of the day and gather together in prayer.  Let Pastor Tom know if you would like to be sent the zoom link to join us. \nShare this:\n				Share on Facebook (Opens in new window)\n				Facebook\n			\n				Share on X (Opens in new window)\n				X
URL:https://littlebritainchurch.org/event/friday-prayer-group/2026-02-20/
LOCATION:PA
ATTACH;FMTTYPE=image/jpeg:https://littlebritainchurch.org/wp-content/uploads/2022/03/prayer.jpg
END:VEVENT
BEGIN:VEVENT
DTSTART;TZID=UTC:20260218T193000
DTEND;TZID=UTC:20260218T210000
DTSTAMP:20260424T134136
CREATED:20250831T212725Z
LAST-MODIFIED:20260109T135618Z
UID:10001212-1771443000-1771448400@littlebritainchurch.org
SUMMARY:Bible Study (ZOOM)
DESCRIPTION:A new Zoom Bible Study on 1 Corinthians begins Wed.\, Jan. 14th at 7:30 p.m.  We would love to have you join.  Let Pastor Tom know at lbpc1732@gmail.com and you will be sent the zoom link. \nShare this:\n				Share on Facebook (Opens in new window)\n				Facebook\n			\n				Share on X (Opens in new window)\n				X
URL:https://littlebritainchurch.org/event/bible-study-zoom-2/2026-02-18/
LOCATION:PA
ATTACH;FMTTYPE=image/png:https://littlebritainchurch.org/wp-content/uploads/2022/09/15109_3_5.png
END:VEVENT
BEGIN:VEVENT
DTSTART;TZID=UTC:20260218T183000
DTEND;TZID=UTC:20260218T200000
DTSTAMP:20260424T134136
CREATED:20250928T221521Z
LAST-MODIFIED:20260109T135452Z
UID:10003731-1771439400-1771444800@littlebritainchurch.org
SUMMARY:Bell Choir
DESCRIPTION:The Bell Choir practice is on Wednesday evenings at 6:30 p.m.  Please come join this fun group. \nShare this:\n				Share on Facebook (Opens in new window)\n				Facebook\n			\n				Share on X (Opens in new window)\n				X
URL:https://littlebritainchurch.org/event/bell-choir-3-3-2-2/2026-02-18/
LOCATION:PA
ATTACH;FMTTYPE=image/jpeg:https://littlebritainchurch.org/wp-content/uploads/2022/09/handbell_choir_image.jpg
END:VEVENT
BEGIN:VEVENT
DTSTART;TZID=UTC:20260215T120000
DTEND;TZID=UTC:20260215T130000
DTSTAMP:20260424T134136
CREATED:20200227T045518Z
LAST-MODIFIED:20260201T184817Z
UID:10000666-1771156800-1771160400@littlebritainchurch.org
SUMMARY:Covered Dish Luncheon
DESCRIPTION:A covered dish lunch will be held following the worship service on Sun.\, Feb. 15\, 2026 to honor our guests\, Peter and Jasmine Antonucci\, our missionaries from overseas.  Please bring a covered dish to share.  All are welcome! \nShare this:\n				Share on Facebook (Opens in new window)\n				Facebook\n			\n				Share on X (Opens in new window)\n				X
URL:https://littlebritainchurch.org/event/covered-dish-luncheon/
LOCATION:Little Britain Presbyterian Church\, 255 Little Britain Church Road\, Peach Bottom\, PA\, 17563\, United States
END:VEVENT
BEGIN:VEVENT
DTSTART;TZID=UTC:20260215T103000
DTEND;TZID=UTC:20260215T234500
DTSTAMP:20260424T134136
CREATED:20221024T055438Z
LAST-MODIFIED:20221222T010804Z
UID:10002257-1771151400-1771199100@littlebritainchurch.org
SUMMARY:Sunday Worship Service
DESCRIPTION:Each Sunday morning\, we gather for worship to be refreshed by and through the word of God. Please join us for worship at 10:30 AM in our Sanctuary or watch on Facebook Live. \nShare this:\n				Share on Facebook (Opens in new window)\n				Facebook\n			\n				Share on X (Opens in new window)\n				X
URL:https://littlebritainchurch.org/event/sunday-worship-service-2/2026-02-15/
LOCATION:Little Britain Presbyterian Church\, 255 Little Britain Church Road\, Peach Bottom\, PA\, 17563\, United States
ATTACH;FMTTYPE=image/jpeg:https://littlebritainchurch.org/wp-content/uploads/2022/03/worship.jpg
END:VEVENT
BEGIN:VEVENT
DTSTART;TZID=UTC:20260215T090000
DTEND;TZID=UTC:20260215T091500
DTSTAMP:20260424T134136
CREATED:20220922T195957Z
LAST-MODIFIED:20220922T195957Z
UID:10001735-1771146000-1771146900@littlebritainchurch.org
SUMMARY:Sunday Prayer Session
DESCRIPTION:Let’s join together in prayer: Sunday Morning from 9:00-9:15 in the conference room. \nShare this:\n				Share on Facebook (Opens in new window)\n				Facebook\n			\n				Share on X (Opens in new window)\n				X
URL:https://littlebritainchurch.org/event/sunday-prayer-session/2026-02-15/
LOCATION:Little Britain Presbyterian Church\, 255 Little Britain Church Road\, Peach Bottom\, PA\, 17563\, United States
ATTACH;FMTTYPE=image/jpeg:https://littlebritainchurch.org/wp-content/uploads/2022/03/prayer.jpg
END:VEVENT
BEGIN:VEVENT
DTSTART;TZID=UTC:20260213T130000
DTEND;TZID=UTC:20260213T140000
DTSTAMP:20260424T134136
CREATED:20220922T200245Z
LAST-MODIFIED:20260423T162338Z
UID:10005172-1770987600-1770991200@littlebritainchurch.org
SUMMARY:Friday Prayer Group
DESCRIPTION:Join our Time of Prayer through Zoom on Fridays in the new year.  We have a new time\, 1:00 p.m.  It is great to pause in the middle of the day and gather together in prayer.  Let Pastor Tom know if you would like to be sent the zoom link to join us. \nShare this:\n				Share on Facebook (Opens in new window)\n				Facebook\n			\n				Share on X (Opens in new window)\n				X
URL:https://littlebritainchurch.org/event/friday-prayer-group/2026-02-13/
LOCATION:PA
ATTACH;FMTTYPE=image/jpeg:https://littlebritainchurch.org/wp-content/uploads/2022/03/prayer.jpg
END:VEVENT
BEGIN:VEVENT
DTSTART;TZID=UTC:20260211T193000
DTEND;TZID=UTC:20260211T210000
DTSTAMP:20260424T134136
CREATED:20250831T212725Z
LAST-MODIFIED:20260109T135618Z
UID:10001211-1770838200-1770843600@littlebritainchurch.org
SUMMARY:Bible Study (ZOOM)
DESCRIPTION:A new Zoom Bible Study on 1 Corinthians begins Wed.\, Jan. 14th at 7:30 p.m.  We would love to have you join.  Let Pastor Tom know at lbpc1732@gmail.com and you will be sent the zoom link. \nShare this:\n				Share on Facebook (Opens in new window)\n				Facebook\n			\n				Share on X (Opens in new window)\n				X
URL:https://littlebritainchurch.org/event/bible-study-zoom-2/2026-02-11/
LOCATION:PA
ATTACH;FMTTYPE=image/png:https://littlebritainchurch.org/wp-content/uploads/2022/09/15109_3_5.png
END:VEVENT
BEGIN:VEVENT
DTSTART;TZID=UTC:20260211T183000
DTEND;TZID=UTC:20260211T200000
DTSTAMP:20260424T134136
CREATED:20250928T221521Z
LAST-MODIFIED:20260109T135452Z
UID:10003730-1770834600-1770840000@littlebritainchurch.org
SUMMARY:Bell Choir
DESCRIPTION:The Bell Choir practice is on Wednesday evenings at 6:30 p.m.  Please come join this fun group. \nShare this:\n				Share on Facebook (Opens in new window)\n				Facebook\n			\n				Share on X (Opens in new window)\n				X
URL:https://littlebritainchurch.org/event/bell-choir-3-3-2-2/2026-02-11/
LOCATION:PA
ATTACH;FMTTYPE=image/jpeg:https://littlebritainchurch.org/wp-content/uploads/2022/09/handbell_choir_image.jpg
END:VEVENT
BEGIN:VEVENT
DTSTART;TZID=UTC:20260210T183000
DTEND;TZID=UTC:20260210T210000
DTSTAMP:20260424T134136
CREATED:20210507T051447Z
LAST-MODIFIED:20260201T184631Z
UID:10000678-1770748200-1770757200@littlebritainchurch.org
SUMMARY:Session Meeting
DESCRIPTION:There will be a Session meeting on Tues.\, Feb. 10th at 7:00 p.m.  Come early at 6:30 p.m. for a time of prayer. \nShare this:\n				Share on Facebook (Opens in new window)\n				Facebook\n			\n				Share on X (Opens in new window)\n				X
URL:https://littlebritainchurch.org/event/joint-session-and-deacons-meeting/
LOCATION:Little Britain Presbyterian Church\, 255 Little Britain Church Road\, Peach Bottom\, PA\, 17563\, United States
END:VEVENT
BEGIN:VEVENT
DTSTART;TZID=UTC:20260208T113000
DTEND;TZID=UTC:20260208T130000
DTSTAMP:20260424T134136
CREATED:20240322T214624Z
LAST-MODIFIED:20240322T214625Z
UID:10002749-1770550200-1770555600@littlebritainchurch.org
SUMMARY:2nd Sunday Social
DESCRIPTION:Please plan to join us for a time of fellowship and refreshments following worship today. \n  \nShare this:\n				Share on Facebook (Opens in new window)\n				Facebook\n			\n				Share on X (Opens in new window)\n				X
URL:https://littlebritainchurch.org/event/2nd-sunday-social-2-2/2026-02-08/
LOCATION:Little Britain Presbyterian Church\, 255 Little Britain Church Road\, Peach Bottom\, PA\, 17563\, United States
END:VEVENT
BEGIN:VEVENT
DTSTART;TZID=UTC:20260208T103000
DTEND;TZID=UTC:20260208T234500
DTSTAMP:20260424T134136
CREATED:20221024T055438Z
LAST-MODIFIED:20221222T010804Z
UID:10002256-1770546600-1770594300@littlebritainchurch.org
SUMMARY:Sunday Worship Service
DESCRIPTION:Each Sunday morning\, we gather for worship to be refreshed by and through the word of God. Please join us for worship at 10:30 AM in our Sanctuary or watch on Facebook Live. \nShare this:\n				Share on Facebook (Opens in new window)\n				Facebook\n			\n				Share on X (Opens in new window)\n				X
URL:https://littlebritainchurch.org/event/sunday-worship-service-2/2026-02-08/
LOCATION:Little Britain Presbyterian Church\, 255 Little Britain Church Road\, Peach Bottom\, PA\, 17563\, United States
ATTACH;FMTTYPE=image/jpeg:https://littlebritainchurch.org/wp-content/uploads/2022/03/worship.jpg
END:VEVENT
BEGIN:VEVENT
DTSTART;TZID=UTC:20260208T103000
DTEND;TZID=UTC:20260208T120000
DTSTAMP:20260424T134136
CREATED:20220206T000240Z
LAST-MODIFIED:20260201T184916Z
UID:10000692-1770546600-1770552000@littlebritainchurch.org
SUMMARY:Souper Bowl Sunday
DESCRIPTION:We will be collecting food items and monetary donations for Souper Bowl Sunday\, Feb. 8th.  All donations will be forwarded to the Solanco Food Bank. \nShare this:\n				Share on Facebook (Opens in new window)\n				Facebook\n			\n				Share on X (Opens in new window)\n				X
URL:https://littlebritainchurch.org/event/souper-bowl-sunday/
LOCATION:Little Britain Presbyterian Church\, 255 Little Britain Church Road\, Peach Bottom\, PA\, 17563\, United States
ATTACH;FMTTYPE=image/png:https://littlebritainchurch.org/wp-content/uploads/2022/02/SouperBowl.png
END:VEVENT
BEGIN:VEVENT
DTSTART;TZID=UTC:20260208T090000
DTEND;TZID=UTC:20260208T091500
DTSTAMP:20260424T134136
CREATED:20220922T195957Z
LAST-MODIFIED:20220922T195957Z
UID:10001734-1770541200-1770542100@littlebritainchurch.org
SUMMARY:Sunday Prayer Session
DESCRIPTION:Let’s join together in prayer: Sunday Morning from 9:00-9:15 in the conference room. \nShare this:\n				Share on Facebook (Opens in new window)\n				Facebook\n			\n				Share on X (Opens in new window)\n				X
URL:https://littlebritainchurch.org/event/sunday-prayer-session/2026-02-08/
LOCATION:Little Britain Presbyterian Church\, 255 Little Britain Church Road\, Peach Bottom\, PA\, 17563\, United States
ATTACH;FMTTYPE=image/jpeg:https://littlebritainchurch.org/wp-content/uploads/2022/03/prayer.jpg
END:VEVENT
END:VCALENDAR