BEGIN:VCALENDAR
VERSION:2.0
PRODID:-//Little Britain Presbyterian Church - ECPv6.15.20//NONSGML v1.0//EN
CALSCALE:GREGORIAN
METHOD:PUBLISH
X-ORIGINAL-URL:https://littlebritainchurch.org
X-WR-CALDESC:Events for Little Britain Presbyterian Church
REFRESH-INTERVAL;VALUE=DURATION:PT1H
X-Robots-Tag:noindex
X-PUBLISHED-TTL:PT1H
BEGIN:VTIMEZONE
TZID:UTC
BEGIN:STANDARD
TZOFFSETFROM:+0000
TZOFFSETTO:+0000
TZNAME:UTC
DTSTART:20240101T000000
END:STANDARD
END:VTIMEZONE
BEGIN:VEVENT
DTSTART;TZID=UTC:20260125T090000
DTEND;TZID=UTC:20260125T091500
DTSTAMP:20260424T182112
CREATED:20220922T195957Z
LAST-MODIFIED:20220922T195957Z
UID:10001732-1769331600-1769332500@littlebritainchurch.org
SUMMARY:Sunday Prayer Session
DESCRIPTION:Let’s join together in prayer: Sunday Morning from 9:00-9:15 in the conference room. \nShare this:\n				Share on Facebook (Opens in new window)\n				Facebook\n			\n				Share on X (Opens in new window)\n				X
URL:https://littlebritainchurch.org/event/sunday-prayer-session/2026-01-25/
LOCATION:Little Britain Presbyterian Church\, 255 Little Britain Church Road\, Peach Bottom\, PA\, 17563\, United States
ATTACH;FMTTYPE=image/jpeg:https://littlebritainchurch.org/wp-content/uploads/2022/03/prayer.jpg
END:VEVENT
BEGIN:VEVENT
DTSTART;TZID=UTC:20260123T130000
DTEND;TZID=UTC:20260123T140000
DTSTAMP:20260424T182112
CREATED:20220922T200245Z
LAST-MODIFIED:20260423T162338Z
UID:10005169-1769173200-1769176800@littlebritainchurch.org
SUMMARY:Friday Prayer Group
DESCRIPTION:Join our Time of Prayer through Zoom on Fridays in the new year.  We have a new time\, 1:00 p.m.  It is great to pause in the middle of the day and gather together in prayer.  Let Pastor Tom know if you would like to be sent the zoom link to join us. \nShare this:\n				Share on Facebook (Opens in new window)\n				Facebook\n			\n				Share on X (Opens in new window)\n				X
URL:https://littlebritainchurch.org/event/friday-prayer-group/2026-01-23/
LOCATION:PA
ATTACH;FMTTYPE=image/jpeg:https://littlebritainchurch.org/wp-content/uploads/2022/03/prayer.jpg
END:VEVENT
BEGIN:VEVENT
DTSTART;TZID=UTC:20260121T193000
DTEND;TZID=UTC:20260121T210000
DTSTAMP:20260424T182112
CREATED:20250831T212725Z
LAST-MODIFIED:20260109T135618Z
UID:10001208-1769023800-1769029200@littlebritainchurch.org
SUMMARY:Bible Study (ZOOM)
DESCRIPTION:A new Zoom Bible Study on 1 Corinthians begins Wed.\, Jan. 14th at 7:30 p.m.  We would love to have you join.  Let Pastor Tom know at lbpc1732@gmail.com and you will be sent the zoom link. \nShare this:\n				Share on Facebook (Opens in new window)\n				Facebook\n			\n				Share on X (Opens in new window)\n				X
URL:https://littlebritainchurch.org/event/bible-study-zoom-2/2026-01-21/
LOCATION:PA
ATTACH;FMTTYPE=image/png:https://littlebritainchurch.org/wp-content/uploads/2022/09/15109_3_5.png
END:VEVENT
BEGIN:VEVENT
DTSTART;TZID=UTC:20260121T183000
DTEND;TZID=UTC:20260121T200000
DTSTAMP:20260424T182112
CREATED:20250928T221521Z
LAST-MODIFIED:20260109T135452Z
UID:10003727-1769020200-1769025600@littlebritainchurch.org
SUMMARY:Bell Choir
DESCRIPTION:The Bell Choir practice is on Wednesday evenings at 6:30 p.m.  Please come join this fun group. \nShare this:\n				Share on Facebook (Opens in new window)\n				Facebook\n			\n				Share on X (Opens in new window)\n				X
URL:https://littlebritainchurch.org/event/bell-choir-3-3-2-2/2026-01-21/
LOCATION:PA
ATTACH;FMTTYPE=image/jpeg:https://littlebritainchurch.org/wp-content/uploads/2022/09/handbell_choir_image.jpg
END:VEVENT
BEGIN:VEVENT
DTSTART;TZID=UTC:20260118T103000
DTEND;TZID=UTC:20260118T234500
DTSTAMP:20260424T182112
CREATED:20221024T055438Z
LAST-MODIFIED:20221222T010804Z
UID:10002253-1768732200-1768779900@littlebritainchurch.org
SUMMARY:Sunday Worship Service
DESCRIPTION:Each Sunday morning\, we gather for worship to be refreshed by and through the word of God. Please join us for worship at 10:30 AM in our Sanctuary or watch on Facebook Live. \nShare this:\n				Share on Facebook (Opens in new window)\n				Facebook\n			\n				Share on X (Opens in new window)\n				X
URL:https://littlebritainchurch.org/event/sunday-worship-service-2/2026-01-18/
LOCATION:Little Britain Presbyterian Church\, 255 Little Britain Church Road\, Peach Bottom\, PA\, 17563\, United States
ATTACH;FMTTYPE=image/jpeg:https://littlebritainchurch.org/wp-content/uploads/2022/03/worship.jpg
END:VEVENT
BEGIN:VEVENT
DTSTART;TZID=UTC:20260118T090000
DTEND;TZID=UTC:20260118T091500
DTSTAMP:20260424T182112
CREATED:20220922T195957Z
LAST-MODIFIED:20220922T195957Z
UID:10001731-1768726800-1768727700@littlebritainchurch.org
SUMMARY:Sunday Prayer Session
DESCRIPTION:Let’s join together in prayer: Sunday Morning from 9:00-9:15 in the conference room. \nShare this:\n				Share on Facebook (Opens in new window)\n				Facebook\n			\n				Share on X (Opens in new window)\n				X
URL:https://littlebritainchurch.org/event/sunday-prayer-session/2026-01-18/
LOCATION:Little Britain Presbyterian Church\, 255 Little Britain Church Road\, Peach Bottom\, PA\, 17563\, United States
ATTACH;FMTTYPE=image/jpeg:https://littlebritainchurch.org/wp-content/uploads/2022/03/prayer.jpg
END:VEVENT
BEGIN:VEVENT
DTSTART;TZID=UTC:20260116T130000
DTEND;TZID=UTC:20260116T140000
DTSTAMP:20260424T182112
CREATED:20220922T200245Z
LAST-MODIFIED:20260423T162338Z
UID:10005168-1768568400-1768572000@littlebritainchurch.org
SUMMARY:Friday Prayer Group
DESCRIPTION:Join our Time of Prayer through Zoom on Fridays in the new year.  We have a new time\, 1:00 p.m.  It is great to pause in the middle of the day and gather together in prayer.  Let Pastor Tom know if you would like to be sent the zoom link to join us. \nShare this:\n				Share on Facebook (Opens in new window)\n				Facebook\n			\n				Share on X (Opens in new window)\n				X
URL:https://littlebritainchurch.org/event/friday-prayer-group/2026-01-16/
LOCATION:PA
ATTACH;FMTTYPE=image/jpeg:https://littlebritainchurch.org/wp-content/uploads/2022/03/prayer.jpg
END:VEVENT
BEGIN:VEVENT
DTSTART;TZID=UTC:20260114T193000
DTEND;TZID=UTC:20260114T210000
DTSTAMP:20260424T182112
CREATED:20250831T212725Z
LAST-MODIFIED:20260109T135618Z
UID:10001207-1768419000-1768424400@littlebritainchurch.org
SUMMARY:Bible Study (ZOOM)
DESCRIPTION:A new Zoom Bible Study on 1 Corinthians begins Wed.\, Jan. 14th at 7:30 p.m.  We would love to have you join.  Let Pastor Tom know at lbpc1732@gmail.com and you will be sent the zoom link. \nShare this:\n				Share on Facebook (Opens in new window)\n				Facebook\n			\n				Share on X (Opens in new window)\n				X
URL:https://littlebritainchurch.org/event/bible-study-zoom-2/2026-01-14/
LOCATION:PA
ATTACH;FMTTYPE=image/png:https://littlebritainchurch.org/wp-content/uploads/2022/09/15109_3_5.png
END:VEVENT
BEGIN:VEVENT
DTSTART;TZID=UTC:20260114T183000
DTEND;TZID=UTC:20260114T200000
DTSTAMP:20260424T182112
CREATED:20250928T221521Z
LAST-MODIFIED:20260109T135452Z
UID:10003726-1768415400-1768420800@littlebritainchurch.org
SUMMARY:Bell Choir
DESCRIPTION:The Bell Choir practice is on Wednesday evenings at 6:30 p.m.  Please come join this fun group. \nShare this:\n				Share on Facebook (Opens in new window)\n				Facebook\n			\n				Share on X (Opens in new window)\n				X
URL:https://littlebritainchurch.org/event/bell-choir-3-3-2-2/2026-01-14/
LOCATION:PA
ATTACH;FMTTYPE=image/jpeg:https://littlebritainchurch.org/wp-content/uploads/2022/09/handbell_choir_image.jpg
END:VEVENT
BEGIN:VEVENT
DTSTART;TZID=UTC:20260111T120000
DTEND;TZID=UTC:20260111T130000
DTSTAMP:20260424T182112
CREATED:20200107T054011Z
LAST-MODIFIED:20260103T055211Z
UID:10000661-1768132800-1768136400@littlebritainchurch.org
SUMMARY:Remembering the Hungry Meal
DESCRIPTION:Sun.\, Jan. 11 th is our Remember the Hungry lunch following the worship service. Donations will benefit Water Street Mission. All are welcome! \nShare this:\n				Share on Facebook (Opens in new window)\n				Facebook\n			\n				Share on X (Opens in new window)\n				X
URL:https://littlebritainchurch.org/event/remembering-the-hungry-meal/
LOCATION:Little Britain Presbyterian Church\, 255 Little Britain Church Road\, Peach Bottom\, PA\, 17563\, United States
END:VEVENT
BEGIN:VEVENT
DTSTART;TZID=UTC:20260111T113000
DTEND;TZID=UTC:20260111T130000
DTSTAMP:20260424T182112
CREATED:20240322T214624Z
LAST-MODIFIED:20240322T214625Z
UID:10002748-1768131000-1768136400@littlebritainchurch.org
SUMMARY:2nd Sunday Social
DESCRIPTION:Please plan to join us for a time of fellowship and refreshments following worship today. \n  \nShare this:\n				Share on Facebook (Opens in new window)\n				Facebook\n			\n				Share on X (Opens in new window)\n				X
URL:https://littlebritainchurch.org/event/2nd-sunday-social-2-2/2026-01-11/
LOCATION:Little Britain Presbyterian Church\, 255 Little Britain Church Road\, Peach Bottom\, PA\, 17563\, United States
END:VEVENT
BEGIN:VEVENT
DTSTART;TZID=UTC:20260111T103000
DTEND;TZID=UTC:20260111T234500
DTSTAMP:20260424T182112
CREATED:20221024T055438Z
LAST-MODIFIED:20221222T010804Z
UID:10002252-1768127400-1768175100@littlebritainchurch.org
SUMMARY:Sunday Worship Service
DESCRIPTION:Each Sunday morning\, we gather for worship to be refreshed by and through the word of God. Please join us for worship at 10:30 AM in our Sanctuary or watch on Facebook Live. \nShare this:\n				Share on Facebook (Opens in new window)\n				Facebook\n			\n				Share on X (Opens in new window)\n				X
URL:https://littlebritainchurch.org/event/sunday-worship-service-2/2026-01-11/
LOCATION:Little Britain Presbyterian Church\, 255 Little Britain Church Road\, Peach Bottom\, PA\, 17563\, United States
ATTACH;FMTTYPE=image/jpeg:https://littlebritainchurch.org/wp-content/uploads/2022/03/worship.jpg
END:VEVENT
BEGIN:VEVENT
DTSTART;TZID=UTC:20260111T090000
DTEND;TZID=UTC:20260111T091500
DTSTAMP:20260424T182112
CREATED:20220922T195957Z
LAST-MODIFIED:20220922T195957Z
UID:10001730-1768122000-1768122900@littlebritainchurch.org
SUMMARY:Sunday Prayer Session
DESCRIPTION:Let’s join together in prayer: Sunday Morning from 9:00-9:15 in the conference room. \nShare this:\n				Share on Facebook (Opens in new window)\n				Facebook\n			\n				Share on X (Opens in new window)\n				X
URL:https://littlebritainchurch.org/event/sunday-prayer-session/2026-01-11/
LOCATION:Little Britain Presbyterian Church\, 255 Little Britain Church Road\, Peach Bottom\, PA\, 17563\, United States
ATTACH;FMTTYPE=image/jpeg:https://littlebritainchurch.org/wp-content/uploads/2022/03/prayer.jpg
END:VEVENT
BEGIN:VEVENT
DTSTART;TZID=UTC:20260109T130000
DTEND;TZID=UTC:20260109T140000
DTSTAMP:20260424T182112
CREATED:20220922T200245Z
LAST-MODIFIED:20260423T162338Z
UID:10005167-1767963600-1767967200@littlebritainchurch.org
SUMMARY:Friday Prayer Group
DESCRIPTION:Join our Time of Prayer through Zoom on Fridays in the new year.  We have a new time\, 1:00 p.m.  It is great to pause in the middle of the day and gather together in prayer.  Let Pastor Tom know if you would like to be sent the zoom link to join us. \nShare this:\n				Share on Facebook (Opens in new window)\n				Facebook\n			\n				Share on X (Opens in new window)\n				X
URL:https://littlebritainchurch.org/event/friday-prayer-group/2026-01-09/
LOCATION:PA
ATTACH;FMTTYPE=image/jpeg:https://littlebritainchurch.org/wp-content/uploads/2022/03/prayer.jpg
END:VEVENT
BEGIN:VEVENT
DTSTART;TZID=UTC:20260107T193000
DTEND;TZID=UTC:20260107T210000
DTSTAMP:20260424T182112
CREATED:20250831T212725Z
LAST-MODIFIED:20260109T135618Z
UID:10001206-1767814200-1767819600@littlebritainchurch.org
SUMMARY:Bible Study (ZOOM)
DESCRIPTION:A new Zoom Bible Study on 1 Corinthians begins Wed.\, Jan. 14th at 7:30 p.m.  We would love to have you join.  Let Pastor Tom know at lbpc1732@gmail.com and you will be sent the zoom link. \nShare this:\n				Share on Facebook (Opens in new window)\n				Facebook\n			\n				Share on X (Opens in new window)\n				X
URL:https://littlebritainchurch.org/event/bible-study-zoom-2/2026-01-07/
LOCATION:PA
ATTACH;FMTTYPE=image/png:https://littlebritainchurch.org/wp-content/uploads/2022/09/15109_3_5.png
END:VEVENT
BEGIN:VEVENT
DTSTART;TZID=UTC:20260107T183000
DTEND;TZID=UTC:20260107T200000
DTSTAMP:20260424T182112
CREATED:20250928T221521Z
LAST-MODIFIED:20260109T135452Z
UID:10003725-1767810600-1767816000@littlebritainchurch.org
SUMMARY:Bell Choir
DESCRIPTION:The Bell Choir practice is on Wednesday evenings at 6:30 p.m.  Please come join this fun group. \nShare this:\n				Share on Facebook (Opens in new window)\n				Facebook\n			\n				Share on X (Opens in new window)\n				X
URL:https://littlebritainchurch.org/event/bell-choir-3-3-2-2/2026-01-07/
LOCATION:PA
ATTACH;FMTTYPE=image/jpeg:https://littlebritainchurch.org/wp-content/uploads/2022/09/handbell_choir_image.jpg
END:VEVENT
BEGIN:VEVENT
DTSTART;TZID=UTC:20260106T130000
DTEND;TZID=UTC:20260106T150000
DTSTAMP:20260424T182112
CREATED:20260103T055022Z
LAST-MODIFIED:20260105T011244Z
UID:10004276-1767704400-1767711600@littlebritainchurch.org
SUMMARY:Women's Bible Study
DESCRIPTION:The Women’s Bible Study will meet the first Tuesday of the month at 1:00 p.m. at the church. All women are welcome!\n(Contact Judy Blore at 215-858-7568 for more information.) \nShare this:\n				Share on Facebook (Opens in new window)\n				Facebook\n			\n				Share on X (Opens in new window)\n				X
URL:https://littlebritainchurch.org/event/womens-bible-study/2026-01-06/
LOCATION:Little Britain Presbyterian Church\, 255 Little Britain Church Road\, Peach Bottom\, PA\, 17563\, United States
ATTACH;FMTTYPE=image/jpeg:https://littlebritainchurch.org/wp-content/uploads/2022/09/women-s-bible-study-clipart-large-8.jpg
END:VEVENT
BEGIN:VEVENT
DTSTART;TZID=UTC:20260104T103000
DTEND;TZID=UTC:20260104T234500
DTSTAMP:20260424T182112
CREATED:20221024T055438Z
LAST-MODIFIED:20221222T010804Z
UID:10002251-1767522600-1767570300@littlebritainchurch.org
SUMMARY:Sunday Worship Service
DESCRIPTION:Each Sunday morning\, we gather for worship to be refreshed by and through the word of God. Please join us for worship at 10:30 AM in our Sanctuary or watch on Facebook Live. \nShare this:\n				Share on Facebook (Opens in new window)\n				Facebook\n			\n				Share on X (Opens in new window)\n				X
URL:https://littlebritainchurch.org/event/sunday-worship-service-2/2026-01-04/
LOCATION:Little Britain Presbyterian Church\, 255 Little Britain Church Road\, Peach Bottom\, PA\, 17563\, United States
ATTACH;FMTTYPE=image/jpeg:https://littlebritainchurch.org/wp-content/uploads/2022/03/worship.jpg
END:VEVENT
BEGIN:VEVENT
DTSTART;TZID=UTC:20260104T103000
DTEND;TZID=UTC:20260104T114500
DTSTAMP:20260424T182112
CREATED:20240505T160846Z
LAST-MODIFIED:20240505T160914Z
UID:10002829-1767522600-1767527100@littlebritainchurch.org
SUMMARY:Communion
DESCRIPTION:This Sunday is Holy Communion\, please come with your hearts prepared. \nShare this:\n				Share on Facebook (Opens in new window)\n				Facebook\n			\n				Share on X (Opens in new window)\n				X
URL:https://littlebritainchurch.org/event/communion-2/2026-01-04/
LOCATION:Little Britain Presbyterian Church\, 255 Little Britain Church Road\, Peach Bottom\, PA\, 17563\, United States
ATTACH;FMTTYPE=image/jpeg:https://littlebritainchurch.org/wp-content/uploads/2019/08/communion.jpg
END:VEVENT
BEGIN:VEVENT
DTSTART;TZID=UTC:20260104T090000
DTEND;TZID=UTC:20260104T091500
DTSTAMP:20260424T182112
CREATED:20220922T195957Z
LAST-MODIFIED:20220922T195957Z
UID:10001729-1767517200-1767518100@littlebritainchurch.org
SUMMARY:Sunday Prayer Session
DESCRIPTION:Let’s join together in prayer: Sunday Morning from 9:00-9:15 in the conference room. \nShare this:\n				Share on Facebook (Opens in new window)\n				Facebook\n			\n				Share on X (Opens in new window)\n				X
URL:https://littlebritainchurch.org/event/sunday-prayer-session/2026-01-04/
LOCATION:Little Britain Presbyterian Church\, 255 Little Britain Church Road\, Peach Bottom\, PA\, 17563\, United States
ATTACH;FMTTYPE=image/jpeg:https://littlebritainchurch.org/wp-content/uploads/2022/03/prayer.jpg
END:VEVENT
BEGIN:VEVENT
DTSTART;TZID=UTC:20260102T130000
DTEND;TZID=UTC:20260102T140000
DTSTAMP:20260424T182112
CREATED:20220922T200245Z
LAST-MODIFIED:20260423T162338Z
UID:10005166-1767358800-1767362400@littlebritainchurch.org
SUMMARY:Friday Prayer Group
DESCRIPTION:Join our Time of Prayer through Zoom on Fridays in the new year.  We have a new time\, 1:00 p.m.  It is great to pause in the middle of the day and gather together in prayer.  Let Pastor Tom know if you would like to be sent the zoom link to join us. \nShare this:\n				Share on Facebook (Opens in new window)\n				Facebook\n			\n				Share on X (Opens in new window)\n				X
URL:https://littlebritainchurch.org/event/friday-prayer-group/2026-01-02/
LOCATION:PA
ATTACH;FMTTYPE=image/jpeg:https://littlebritainchurch.org/wp-content/uploads/2022/03/prayer.jpg
END:VEVENT
BEGIN:VEVENT
DTSTART;TZID=UTC:20251231T193000
DTEND;TZID=UTC:20251231T210000
DTSTAMP:20260424T182112
CREATED:20250831T212725Z
LAST-MODIFIED:20260109T135618Z
UID:10001205-1767209400-1767214800@littlebritainchurch.org
SUMMARY:Bible Study (ZOOM)
DESCRIPTION:A new Zoom Bible Study on 1 Corinthians begins Wed.\, Jan. 14th at 7:30 p.m.  We would love to have you join.  Let Pastor Tom know at lbpc1732@gmail.com and you will be sent the zoom link. \nShare this:\n				Share on Facebook (Opens in new window)\n				Facebook\n			\n				Share on X (Opens in new window)\n				X
URL:https://littlebritainchurch.org/event/bible-study-zoom-2/2025-12-31/
LOCATION:PA
ATTACH;FMTTYPE=image/png:https://littlebritainchurch.org/wp-content/uploads/2022/09/15109_3_5.png
END:VEVENT
BEGIN:VEVENT
DTSTART;TZID=UTC:20251231T183000
DTEND;TZID=UTC:20251231T200000
DTSTAMP:20260424T182112
CREATED:20250928T221521Z
LAST-MODIFIED:20260109T135452Z
UID:10003724-1767205800-1767211200@littlebritainchurch.org
SUMMARY:Bell Choir
DESCRIPTION:The Bell Choir practice is on Wednesday evenings at 6:30 p.m.  Please come join this fun group. \nShare this:\n				Share on Facebook (Opens in new window)\n				Facebook\n			\n				Share on X (Opens in new window)\n				X
URL:https://littlebritainchurch.org/event/bell-choir-3-3-2-2/2025-12-31/
LOCATION:PA
ATTACH;FMTTYPE=image/jpeg:https://littlebritainchurch.org/wp-content/uploads/2022/09/handbell_choir_image.jpg
END:VEVENT
BEGIN:VEVENT
DTSTART;TZID=UTC:20251228T103000
DTEND;TZID=UTC:20251228T234500
DTSTAMP:20260424T182112
CREATED:20221024T055438Z
LAST-MODIFIED:20221222T010804Z
UID:10002250-1766917800-1766965500@littlebritainchurch.org
SUMMARY:Sunday Worship Service
DESCRIPTION:Each Sunday morning\, we gather for worship to be refreshed by and through the word of God. Please join us for worship at 10:30 AM in our Sanctuary or watch on Facebook Live. \nShare this:\n				Share on Facebook (Opens in new window)\n				Facebook\n			\n				Share on X (Opens in new window)\n				X
URL:https://littlebritainchurch.org/event/sunday-worship-service-2/2025-12-28/
LOCATION:Little Britain Presbyterian Church\, 255 Little Britain Church Road\, Peach Bottom\, PA\, 17563\, United States
ATTACH;FMTTYPE=image/jpeg:https://littlebritainchurch.org/wp-content/uploads/2022/03/worship.jpg
END:VEVENT
BEGIN:VEVENT
DTSTART;TZID=UTC:20251228T090000
DTEND;TZID=UTC:20251228T091500
DTSTAMP:20260424T182112
CREATED:20220922T195957Z
LAST-MODIFIED:20220922T195957Z
UID:10001728-1766912400-1766913300@littlebritainchurch.org
SUMMARY:Sunday Prayer Session
DESCRIPTION:Let’s join together in prayer: Sunday Morning from 9:00-9:15 in the conference room. \nShare this:\n				Share on Facebook (Opens in new window)\n				Facebook\n			\n				Share on X (Opens in new window)\n				X
URL:https://littlebritainchurch.org/event/sunday-prayer-session/2025-12-28/
LOCATION:Little Britain Presbyterian Church\, 255 Little Britain Church Road\, Peach Bottom\, PA\, 17563\, United States
ATTACH;FMTTYPE=image/jpeg:https://littlebritainchurch.org/wp-content/uploads/2022/03/prayer.jpg
END:VEVENT
BEGIN:VEVENT
DTSTART;TZID=UTC:20251226T130000
DTEND;TZID=UTC:20251226T140000
DTSTAMP:20260424T182112
CREATED:20220922T200245Z
LAST-MODIFIED:20260423T162338Z
UID:10005165-1766754000-1766757600@littlebritainchurch.org
SUMMARY:Friday Prayer Group
DESCRIPTION:Join our Time of Prayer through Zoom on Fridays in the new year.  We have a new time\, 1:00 p.m.  It is great to pause in the middle of the day and gather together in prayer.  Let Pastor Tom know if you would like to be sent the zoom link to join us. \nShare this:\n				Share on Facebook (Opens in new window)\n				Facebook\n			\n				Share on X (Opens in new window)\n				X
URL:https://littlebritainchurch.org/event/friday-prayer-group/2025-12-26/
LOCATION:PA
ATTACH;FMTTYPE=image/jpeg:https://littlebritainchurch.org/wp-content/uploads/2022/03/prayer.jpg
END:VEVENT
BEGIN:VEVENT
DTSTART;TZID=UTC:20251224T193000
DTEND;TZID=UTC:20251224T210000
DTSTAMP:20260424T182112
CREATED:20250831T212725Z
LAST-MODIFIED:20260109T135618Z
UID:10001204-1766604600-1766610000@littlebritainchurch.org
SUMMARY:Bible Study (ZOOM)
DESCRIPTION:A new Zoom Bible Study on 1 Corinthians begins Wed.\, Jan. 14th at 7:30 p.m.  We would love to have you join.  Let Pastor Tom know at lbpc1732@gmail.com and you will be sent the zoom link. \nShare this:\n				Share on Facebook (Opens in new window)\n				Facebook\n			\n				Share on X (Opens in new window)\n				X
URL:https://littlebritainchurch.org/event/bible-study-zoom-2/2025-12-24/
LOCATION:PA
ATTACH;FMTTYPE=image/png:https://littlebritainchurch.org/wp-content/uploads/2022/09/15109_3_5.png
END:VEVENT
BEGIN:VEVENT
DTSTART;TZID=UTC:20251224T193000
DTEND;TZID=UTC:20251224T203000
DTSTAMP:20260424T182112
CREATED:20191125T035857Z
LAST-MODIFIED:20251212T054202Z
UID:10000655-1766604600-1766608200@littlebritainchurch.org
SUMMARY:Christmas Eve Candlelight Service
DESCRIPTION:Our Christmas Eve Candlelight Service will be held on Wed.\, Dec. 24th at 7:30 p.m.  Come early for a special Bell Choir Prelude. \nShare this:\n				Share on Facebook (Opens in new window)\n				Facebook\n			\n				Share on X (Opens in new window)\n				X
URL:https://littlebritainchurch.org/event/christmas-eve-candlelight-service/
LOCATION:Little Britain Presbyterian Church\, 255 Little Britain Church Road\, Peach Bottom\, PA\, 17563\, United States
ATTACH;FMTTYPE=image/png:https://littlebritainchurch.org/wp-content/uploads/2019/11/christmas-eve-candlelight-service-banner-543x300.png
END:VEVENT
BEGIN:VEVENT
DTSTART;TZID=UTC:20251224T183000
DTEND;TZID=UTC:20251224T200000
DTSTAMP:20260424T182112
CREATED:20250928T221521Z
LAST-MODIFIED:20260109T135452Z
UID:10003723-1766601000-1766606400@littlebritainchurch.org
SUMMARY:Bell Choir
DESCRIPTION:The Bell Choir practice is on Wednesday evenings at 6:30 p.m.  Please come join this fun group. \nShare this:\n				Share on Facebook (Opens in new window)\n				Facebook\n			\n				Share on X (Opens in new window)\n				X
URL:https://littlebritainchurch.org/event/bell-choir-3-3-2-2/2025-12-24/
LOCATION:PA
ATTACH;FMTTYPE=image/jpeg:https://littlebritainchurch.org/wp-content/uploads/2022/09/handbell_choir_image.jpg
END:VEVENT
BEGIN:VEVENT
DTSTART;TZID=UTC:20251221T150000
DTEND;TZID=UTC:20251221T163000
DTSTAMP:20260424T182112
CREATED:20251212T054946Z
LAST-MODIFIED:20251212T054946Z
UID:10004275-1766329200-1766334600@littlebritainchurch.org
SUMMARY:Lancaster Chorus
DESCRIPTION:The Lanchester Chorus will be presenting their annual Christmas concert on Sun.\, Dec. 21st at 3:00 p.m. at the Christiana Fire Hall.  This concert is open to the public and all are welcome! \nShare this:\n				Share on Facebook (Opens in new window)\n				Facebook\n			\n				Share on X (Opens in new window)\n				X
URL:https://littlebritainchurch.org/event/lancaster-chorus/
LOCATION:Christiana Fire Hall\, 214 S Bridge St\, Christiana\, PA\, 17509\, United States
ATTACH;FMTTYPE=image/jpeg:https://littlebritainchurch.org/wp-content/uploads/2024/12/Lanchester-Chorus.jpg
END:VEVENT
END:VCALENDAR